BEGIN:VCALENDAR
VERSION:2.0
PRODID:-//wp-events-plugin.com//7.2.3.1//EN
TZID:Australia/Sydney
X-WR-TIMEZONE:Australia/Sydney
BEGIN:VEVENT
UID:2249@unswoc.org
DTSTART;VALUE=DATE:20180421
DTEND;VALUE=DATE:20180422
DTSTAMP:20180420T053230Z
URL:https://unswoc.org/wordpress/events/yileen-canyon/
SUMMARY:Yileen Canyon
DESCRIPTION:
END:VEVENT
END:VCALENDAR