BEGIN:VCALENDAR
VERSION:2.0
PRODID:-//wp-events-plugin.com//7.2.3.1//EN
TZID:Australia/Sydney
X-WR-TIMEZONE:Australia/Sydney
BEGIN:VEVENT
UID:3119@unswoc.org
DTSTART;TZID=Australia/Sydney:20221210T083000
DTEND;TZID=Australia/Sydney:20221210T170000
DTSTAMP:20221206T120948Z
URL:https://unswoc.org/wordpress/events/yileen-canyon-saturday/
SUMMARY:Yileen Canyon Saturday
DESCRIPTION:Yileen is a traditional aboriginal boys name that means either 
 ‘dream like’\, ‘to dream’\, or\, ‘a dream’. Yileen Canyon\, on
  the other hand\, is a dreamy little canyon on the northern rim of the Gro
 se valley accessed off Bells Line of Rd.\n\nMilly and I (Oliver) will be r
 unning this canyoning trip Saturday\, it is a beginner/intermediate canyon
  but abseiling experience is mandatory\, the final abseil is 50m long!\n\n
 We will be starting at 830 am at the Mt Wilson turnoff on the south side o
 f the road (-33.546180\, 150.336442). Please be on time! We will leave a c
 ar at Pierces Pass for the car shuffle at the end.\n\nhttps://ozultimate.c
 om/canyoning/track_notes/yileen.htm\n\nGEAR: (* = can borrow from UNSWOC)\
 nPlease note that this is a long day\, with very few bailout options. Doub
 le\, triple check you have all of the items on this list BEFORE leaving Sy
 dney.\n\n 	Canyoning gear:\n- Harness*\n- Helmet*\n- 2x locking carabiner*
 \n- 1x Figure 8\n- 1x 120cm safety sling*\n- Drybag*\n- Headtorch (Ideally
  waterproof/resistant)\n- Backpack that can fit ALL your gear in and that 
 can get wet.\n 	Clothing:\n- Wetsuit*\n- Enclosed shoes with good grip [aq
 ua shoes purchased from Big W for $8 or Dunlop Volleys are recommended]\n-
  Wool socks\n- Boardshorts to wear on top of wetsuit\n- Thermals to wear u
 nder your wetsuit (optional\, but helpful especially if you feel the cold 
 easily\; must NOT be cotton)\n- Warm\, lightweight jacket to put in your d
 ry bag. (100% mandatory. This is in case we get stuck\, and you need to ch
 ange into something warm\; windbreakers/light raincoats are recommended)\n
  	Food:\n- 2L Water\n- Lunch (pack it in a waterproof container\, and make
  sure it's vaguely crush-proof)\n- Snacks\n- Chocolate or something nice t
 o share!\n 	Miscellaneous:\n- Any personal medicine (asthma puffer\, Epipe
 n etc)\n\nPlease comment your abseil/canyon experience AND your favourite 
 animal\, you will not be approved without both.
CATEGORIES:Canyoning
END:VEVENT
BEGIN:VTIMEZONE
TZID:Australia/Sydney
X-LIC-LOCATION:Australia/Sydney
BEGIN:DAYLIGHT
DTSTART:20221002T030000
TZOFFSETFROM:+1000
TZOFFSETTO:+1100
TZNAME:AEDT
END:DAYLIGHT
END:VTIMEZONE
END:VCALENDAR