BEGIN:VCALENDAR
VERSION:2.0
PRODID:-//wp-events-plugin.com//7.2.3.1//EN
TZID:Australia/Sydney
X-WR-TIMEZONE:Australia/Sydney
BEGIN:VEVENT
UID:2983@unswoc.org
DTSTART;TZID=Australia/Sydney:20220226T000000
DTEND;TZID=Australia/Sydney:20220226T000000
DTSTAMP:20220216T001938Z
URL:https://unswoc.org/wordpress/events/yileen-canyon-beginner-friendly-ca
 nyoning-trip/
SUMMARY:Yileen Canyon - Beginner Friendly Canyoning Trip
DESCRIPTION:Hi there fellow UNSWOCers!\n\nNadav and I will be running a beg
 inner friendly trip down Yileen Canyon on Saturday February 26th. Get read
 y for some spectacular views of the Gross Valley\, constricted swims\, jum
 ps and hopefully some funky spiders all topped off with a 40m abseil at th
 e end.\n\nThe plan is to carpool from Sydney on Saturday morning (we will 
 create a group chat once the trip list is finalised). The canyon will take
  5-7 hours and we will return to Sydney Saturday evening.\n\nPlease note\,
  for the packing list we specify NO COTTON as hypothermia is common in can
 yons\, and cotton will only make it worse! Trust me... I've gotten hypothe
 rmia canyoning on a 35 degree summer day.\n\nWhat to Wear:\n\n 	Wool/neopr
 ene socks - please do not wear cotton socks!\n 	Enclosed shoes that you a
 re happy to get wet and muddy (Volleys have great grip for canyons *hint h
 int*)\n 	Swimmers or undergarments you are happy to swim in.\n 	Quick dry 
 shorts/pants (boardshorts work well).\n 	Shirt (preferably not cotton).\n 
 	Warm layers such as a fleece\, wool jumper\, etc (if required).\n\nWhat t
 o Pack:\n\n 	25-50L backpack\n 	2L Water (or 1L and a water filter)\n 	Lun
 ch\n 	Sugary snacks\n 	Hat\n 	Sunscreen\n 	A spare pair of shorts to wear 
 over your wetsuit (ideally an old pair of boardshorts or quickdry shorts)\
 n 	Synthetic or wool thermals\n 	Rain jacket\n 	Beanie (optional)\n 	Glove
 s (optional)\n 	Head torch\n 	Waterproof dry bags*\n 	Wetsuit*\n 	Harness*
 \n 	Helmet*\n 	Descender*\n 	Safety sling*\n 	Locking carabiners x2*\n 	Em
 ergency blanket **\n 	Any personal medication\, toiletries\, epipens\, ect
 . that you may need.\n 	Dry clothes\, socks + shoes for after the canyon.\
 n 	A garbage bag to put your wet stuff in for the way home.\n\nAnything wi
 th an * can be borrowed from the gear cupboard on Wednesday nights. Anythi
 ng with a ** can be purchased from the gear cupboard. Please remember to b
 ring a cash deposit with you when borrowing gear!\n\nIf you know how to us
 e a prussik\, please feel free to byo or grab a set when at the gear cupbo
 ard too!\n\nPlease note: You must be fully vaccinated against COVID-19\, a
 nd not have any symptoms to attend this trip. We will need to sight your 
 proof of vaccination prior to embarking on the trip. \n\nWe will only be 
 accepting people who leave a comment\, to check that you have read the abo
 ve. So\, please comment if you have a car\, any prior experience\, any med
 ical conditions (e.g. allergies that we should be aware of) and your favou
 rite place in the world.\n\nGet excited!
ATTACH;FMTTYPE=image/jpeg:https://unswoc.org/wordpress/wp-content/uploads/
 2022/02/Canyon-2.jpg
CATEGORIES:Canyoning
END:VEVENT
BEGIN:VTIMEZONE
TZID:Australia/Sydney
X-LIC-LOCATION:Australia/Sydney
BEGIN:DAYLIGHT
DTSTART:20211003T030000
TZOFFSETFROM:+1000
TZOFFSETTO:+1100
TZNAME:AEDT
END:DAYLIGHT
END:VTIMEZONE
END:VCALENDAR