BEGIN:VCALENDAR
VERSION:2.0
PRODID:-//wp-events-plugin.com//7.2.3.1//EN
TZID:Australia/Sydney
X-WR-TIMEZONE:Australia/Sydney
BEGIN:VEVENT
UID:2420@unswoc.org
DTSTART;VALUE=DATE:20190615
DTEND;VALUE=DATE:20190617
DTSTAMP:20190611T102024Z
URL:https://unswoc.org/wordpress/events/woy-woy-to-wondabyne-overnight-hik
 e/
SUMMARY:Woy Woy to Wondabyne overnight hike
DESCRIPTION:Just a cute little overnight hike in the Brisbane national park
 . Will include some lovely views over the Hawkesbury River\, maybe a water
 fall and some cave camping. \nWe will be doing the majority of the hike on
  the Saturday with a reasonably early start but will mean that we should b
 e back in Sydney early on Sunday.\nWondabyne is a train only station so we
  will be public transporting either from Berowra station or Central. \n\nA
 nd as we will be public transporting there will be no place to leave gear 
 so please follow the packing list strictly.\nsleeping mat and sleeping bag
  (comfortable to at least 0 degrees)\nwarm clothes\nrain jacket\nhead torc
 h\nfood for 2 lunches and a dinner\nstove and gas for cooking these meals\
 nat least 2 liters of water (there is one fill up place\, from a creek tha
 t will need to be treated as well as a couple of ephemeral streams) (it mi
 ght be good to bring an extra liter bottle)\nfirst aid kit\ntoothbrush\nsu
 nscreen/hat/sunnies\n\nif you are unsure as to if you should bring somethi
 ng just message one of us.\n\n\nCheers\nGreta\, Stephen and Mira\n\n\n
CATEGORIES:Hectic Hiking
END:VEVENT
END:VCALENDAR