BEGIN:VCALENDAR
VERSION:2.0
PRODID:-//wp-events-plugin.com//7.2.3.1//EN
TZID:Australia/Sydney
X-WR-TIMEZONE:Australia/Sydney
BEGIN:VEVENT
UID:2128@unswoc.org
DTSTART:20170318T230000Z
DTEND:20170319T040000Z
DTSTAMP:20170317T010906Z
URL:https://unswoc.org/wordpress/events/woronora-dam-mud-ride/
SUMMARY:Woronora Dam Mud Ride
DESCRIPTION:Well Boree Log is postponed because it's "too wet"...\n\nThe Sa
 ms are planning to go mountain bike ride to Woronora Dam instead. Rain\, h
 ail or shine\, we'll leave from Loftus station in the Shire at 10am\, and 
 ride via the Pipeline Trail fire trail to the dam\, and back.\n\nThe route
  is 40km with 800m elevation gain\, and should take in the realm of 3-4 ho
 urs. STRAVA ROUTE MAP So a good level of fitness and preparation will be 
 needed.\n\nWe will both be on rigid drop bar bikes (classic steel MTB &amp
 \; cyclocross) so nothing technical is expected\, probably some rutted and
  chunky dirt roads and horrible steep climbs. A hardtail MTB or beefy tour
 ing or adventure bike will be fine. It's gunna get reaaaaal dirty though.\
 n\nNot gunna bother with registration\, if you're psyched message me on ze
 ro four zero three\, eight two seven\, eight nine six\, and just turn up o
 n the 9:55am train ready to go.
CATEGORIES:Cycle Touring
END:VEVENT
END:VCALENDAR