BEGIN:VCALENDAR
VERSION:2.0
PRODID:-//wp-events-plugin.com//7.2.3.1//EN
TZID:Australia/Sydney
X-WR-TIMEZONE:Australia/Sydney
BEGIN:VEVENT
UID:3212@unswoc.org
DTSTART;TZID=Australia/Sydney:20230302T183000
DTEND;TZID=Australia/Sydney:20230302T193000
DTSTAMP:20230228T233143Z
URL:https://unswoc.org/wordpress/events/workshop-sport-climbing-anchors-an
 d-cleaning/
SUMMARY:WORKSHOP - Sport climbing anchors and cleaning!
DESCRIPTION:\n\nAre you learning to climb outside? Ever wondered what your 
 trip leaders are doing when they are faffing about at the top of a route a
 t the end of the day? Want to magically collect gear and come down safely?
 \n\nThen come and learn how to clean outdoor anchors on Thursday at the Le
 dge!\n\nThis is an essential skill for your safety and to ensure you aren
 ’t leaving your precious gear behind for others to grab!\n\n&nbsp\;\n\nI
 f you have it\, please bring:\n\n 	Your harness\n 	Two locking carabiners\
 n 	A self-anchor/safety sling\n\nPlease mention in your sign up comment wh
 ether you have your own gear\, and what your current experience with climb
 ing is!
END:VEVENT
BEGIN:VTIMEZONE
TZID:Australia/Sydney
X-LIC-LOCATION:Australia/Sydney
BEGIN:DAYLIGHT
DTSTART:20221002T030000
TZOFFSETFROM:+1000
TZOFFSETTO:+1100
TZNAME:AEDT
END:DAYLIGHT
END:VTIMEZONE
END:VCALENDAR