BEGIN:VCALENDAR
VERSION:2.0
PRODID:-//wp-events-plugin.com//7.2.3.1//EN
TZID:Australia/Sydney
X-WR-TIMEZONE:Australia/Sydney
BEGIN:VEVENT
UID:2394@unswoc.org
DTSTART:20190326T063000Z
DTEND:20190326T063000Z
DTSTAMP:20190320T011829Z
URL:https://unswoc.org/wordpress/events/workshop-learn-handstand/
SUMMARY:Workshop - Learn to Handstand
DESCRIPTION:Bascially what the title says.\n\nNo experience required!\n\nVe
 nue pending amount of interest/weather\, but will be on campus at UNSW.\n\
 n
END:VEVENT
END:VCALENDAR