BEGIN:VCALENDAR
VERSION:2.0
PRODID:-//wp-events-plugin.com//7.2.3.1//EN
TZID:Australia/Sydney
X-WR-TIMEZONE:Australia/Sydney
BEGIN:VEVENT
UID:2755@unswoc.org
DTSTART;TZID=Australia/Sydney:20201029T180000
DTEND;TZID=Australia/Sydney:20201029T184500
DTSTAMP:20201025T094532Z
URL:https://unswoc.org/wordpress/events/workshop-for-girls-trad-trip/
SUMMARY:Workshop for GIRLS TRAD TRIP
DESCRIPTION:Ever wanted to learn how the old school climbers did it\, jump 
 into some crack or expand your horizons?\n\nThis learn to trad trip is spe
 cifically for girls (and gender queer) people to encourage you to push you
 r comfort zones\, but still feel safe.\n\nThe workshop is for people with 
 little to know trad knowledge. I will go through the gear and the theory s
 o it can sink in before the weekend. (You don’t have to come on the work
 shop to go to the weekend trip if you already know the basic and vice vers
 e\, if you can’t come on the weekend feel free to come to the workshop)\
 n\nlet me know in the comments what your experience with trad climbing is.
 \n\nHere is the link to the weekend trip (GIRLS TRAD TRIP)\n\nIf you have 
 any questions\, feel free to message me (Mira bug)
CATEGORIES:Climbing
END:VEVENT
BEGIN:VTIMEZONE
TZID:Australia/Sydney
X-LIC-LOCATION:Australia/Sydney
BEGIN:DAYLIGHT
DTSTART:20201004T030000
TZOFFSETFROM:+1000
TZOFFSETTO:+1100
TZNAME:AEDT
END:DAYLIGHT
END:VTIMEZONE
END:VCALENDAR