BEGIN:VCALENDAR
VERSION:2.0
PRODID:-//wp-events-plugin.com//7.2.3.1//EN
TZID:Australia/Sydney
X-WR-TIMEZONE:Australia/Sydney
BEGIN:VEVENT
UID:2916@unswoc.org
DTSTART;TZID=Australia/Sydney:20210617T180000
DTEND;TZID=Australia/Sydney:20210617T190000
DTSTAMP:20210617T040141Z
URL:https://unswoc.org/wordpress/events/workshop-cleaning/
SUMMARY:WORKSHOP - Cleaning
DESCRIPTION:No I don’t mean with brooms and a cloth. Cleaning is the act 
 of retrieving the anchor (or draws) that you have left at the top of a cli
 mb. Its a crucial skill that you will need to climb outside and it super u
 seful for trip leaders if you know how to clean confidently.\n\nSo come to
  the ledge and learn!\n\nTime: 6-7\n\nGear: your usual gear for indoor cli
 mbing  + safety or sling and locking carabiner\n\nDon’t forget you also
  need to sign up to the ledge event here\n\nMessage me if you have any que
 stions (Mira bug)
ATTACH;FMTTYPE=image/jpeg:https://unswoc.org/wordpress/wp-content/uploads/
 2021/02/website-pic.jpg
END:VEVENT
BEGIN:VTIMEZONE
TZID:Australia/Sydney
X-LIC-LOCATION:Australia/Sydney
BEGIN:STANDARD
DTSTART:20210404T020000
TZOFFSETFROM:+1100
TZOFFSETTO:+1000
TZNAME:AEST
END:STANDARD
END:VTIMEZONE
END:VCALENDAR