BEGIN:VCALENDAR
VERSION:2.0
PRODID:-//wp-events-plugin.com//7.2.3.1//EN
TZID:Australia/Sydney
X-WR-TIMEZONE:Australia/Sydney
BEGIN:VEVENT
UID:2999@unswoc.org
DTSTART;TZID=Australia/Sydney:20220428T180000
DTEND;TZID=Australia/Sydney:20220428T193000
DTSTAMP:20220426T042227Z
URL:https://unswoc.org/wordpress/events/workshop-anchor-cleaning/
SUMMARY:WORKSHOP - Anchor cleaning
DESCRIPTION:Are you learning to climb outside? Ever wondered what your trip
  leaders are doing when they are faffing about at the top of a route at th
 e end of the day? Want to magically collect gear and come down safely?\n\n
 Then come and learn how to clean outdoor anchors on Thursday at the Ledge!
  Note: you also need to sign up to the ledge to come to this workshop.\n\n
 \n\nThis is an essential skill for your safety and to ensure you aren’t 
 leaving your precious gear behind for others to grab (i.e. crag swag)!\n\n
 You need to be:\n\n 	Keen to develop your outdoor climbing skills\n 	Physi
 cally at the ledge at 6pm\n\nYou need to bring:\n\n 	Your harness\n 	Two l
 ocking carabiners\n 	A self-anchor/safety sling\n\nPlease mention in your 
 sign up comment whether you have your own gear\, or what you need if not.\
 n\nWe will be cleaning from 6-7:30 but you can climb before and after at t
 he ledge.\n\nLooking forward to the clean up!\n\n&nbsp\;\n\n&nbsp\;
CATEGORIES:Training
END:VEVENT
BEGIN:VTIMEZONE
TZID:Australia/Sydney
X-LIC-LOCATION:Australia/Sydney
BEGIN:STANDARD
DTSTART:20220403T020000
TZOFFSETFROM:+1100
TZOFFSETTO:+1000
TZNAME:AEST
END:STANDARD
END:VTIMEZONE
END:VCALENDAR