BEGIN:VCALENDAR
VERSION:2.0
PRODID:-//wp-events-plugin.com//7.2.3.1//EN
TZID:Australia/Sydney
X-WR-TIMEZONE:Australia/Sydney
BEGIN:VEVENT
UID:2246@unswoc.org
DTSTART:20180420T210000Z
DTEND:20180421T050000Z
DTSTAMP:20180417T071008Z
URL:https://unswoc.org/wordpress/events/wondabyne-station-to-kariong-brook
 -falls/
SUMMARY:Wondabyne station to Kariong Brook falls
DESCRIPTION:This Saturday we will be doing a walk in Brisbane NP. its a lov
 ley little walk to a small falls. We will meet on platform 18 at central s
 tation at 8:30 to catch the 8:46 train to Wondabyne and then walk from the
 re. This walk has no car access. It looks like it might shower but just br
 ing your rain coat.\n\nWhat to bring\n\n 	lunch\n 	hat and other sun prote
 ction\n 	good walking shoes\n 	swimmers if its warm\n 	raincoat if its rai
 ning\n\nhere is a link to more information if you would like it.\n\nhttp:/
 /www.wildwalks.com/bushwalking-and-hiking-in-nsw/brisbane-water-national-p
 ark/wondabyne-station-to-kariong-brook-falls.html\n\n&nbsp\;
CATEGORIES:Bushwalking
END:VEVENT
END:VCALENDAR