BEGIN:VCALENDAR
VERSION:2.0
PRODID:-//wp-events-plugin.com//7.2.3.1//EN
TZID:Australia/Sydney
X-WR-TIMEZONE:Australia/Sydney
BEGIN:VEVENT
UID:3034@unswoc.org
DTSTART;TZID=Australia/Sydney;VALUE=DATE:20221112
DTEND;TZID=Australia/Sydney;VALUE=DATE:20221113
DTSTAMP:20221109T005220Z
URL:https://unswoc.org/wordpress/events/womxnsportclimbing/
SUMMARY:She/They/We Climb Sport
DESCRIPTION:Hello hello\,\n\nJenny jenny and I will be running a beginner-f
 riendly sport climbing trip on Saturday (12 Nov). Crag will be dependent o
 n sign-ups and weather\, but we are hoping to go to the beautiful Blue Mou
 ntains (Ngurra Country).\n\n[caption id="attachment_13713" align="aligncen
 ter" width="300"] Sammy\, Niki\, and Sarah on a beautiful sport climb in N
 owra (Yuin Country)[/caption]\n\nThis is a dedicated event to make space f
 or gender diverse folk and all women\, cis and trans inclusive to feel sup
 ported and welcomed to climb and explore and connect with other like-minde
 d people.\n\nWe are happy to set up top ropes so no prior experience is ne
 eded\; and we would be more than happy to support you on tougher climbs to
 o.\n\n&nbsp\;\n\nYou will need:\n\n 	Personal climbing gear: A harness\, 
 helmet\, locking carabiner\, belay device/ATC\, climbing shoes\n\n 	all
  are available at the gear shed with a deposit\, no rental fee\, check the
  UNSWOC Facebook page for gear shed details\n 	if you have your own gear p
 lease bring it\n\n\n 	For clothing: Wear clothes you are comfortable climb
 ing in (i.e. sporty) as well as extra layers (i.e. jumpers\, coats\, glove
 s\, hats)!\n 	For sustenance: 2 L of water\, lunch\, and snacks\n 	Other g
 ear: Head torch\, sunscreen\, medicines if you need them (asthma puffer\, 
 etc)\, backpack to carry everything in\, comfortable sneakers / hiking boo
 ts to walk down to the crag\n\nLeave a comment to let us know your experie
 nce\, where you will be driving from if you have a car\, what is your Face
 book name (so we can add you to a chat) and what is your favourite knot.\n
CATEGORIES:Climbing,Outdoor Climbing
END:VEVENT
BEGIN:VTIMEZONE
TZID:Australia/Sydney
X-LIC-LOCATION:Australia/Sydney
BEGIN:DAYLIGHT
DTSTART:20221002T030000
TZOFFSETFROM:+1000
TZOFFSETTO:+1100
TZNAME:AEDT
END:DAYLIGHT
END:VTIMEZONE
END:VCALENDAR