BEGIN:VCALENDAR
VERSION:2.0
PRODID:-//wp-events-plugin.com//7.2.3.1//EN
TZID:Australia/Sydney
X-WR-TIMEZONE:Australia/Sydney
BEGIN:VEVENT
UID:3411@unswoc.org
DTSTART;TZID=Australia/Sydney;VALUE=DATE:20240406
DTEND;TZID=Australia/Sydney;VALUE=DATE:20240407
DTSTAMP:20240515T065516Z
URL:https://unswoc.org/wordpress/events/womxn-sport-climbing-to-medlow-bat
 h-saturday-april-6/
SUMMARY:CANCELLED - Womxn Sport Climbing to Medlow Bath - Saturday April 6
DESCRIPTION:Hey Everyone!\n\nThis Saturday April 6th\, Amelia K\, Jemma and
  I (Amelia V) will be leading a beginner friendly sport climbing trip to M
 edlow Bath. It's a great place for all skill and experience levels as ther
 e are a range of grades and styles. We will be setting up top ropes for mo
 st the climbs so no experience is required\, only a keen attitude!\n\nThis
  trip is specifically for women and gender queer club members to get psych
 ed about climbing and the outdoors in a safe\, supportive and inclusive en
 vironment. If you're looking to get outdoors for the first time\, build up
 on pre-existing skills or just get out and do some climbing with some othe
 r cool people\, sign up! If you'd be keen to learn how to lead climb\, ple
 ase say so down in the comment.\n\nThe trip leaders will review all trip s
 ign ups and you'll receive an automated email if you get accepted or rejec
 ted for the trip. If you've been accepted\, check Messenger as the trip le
 aders will make a group chat with all the participants. If you're having i
 ssues signing up\, check that you're logged in and have a paid membership.
  In terms of transport\, we will organise carpooling in the group chat. Th
 is will be an all day adventure\, so that means we will depart early in th
 e morning\, and will return back to Sydney in the evening.\n\nIf you'd lik
 e to check out some of the routes\, here is some more info on the crag: ht
 tps://www.thecrag.com/en/climbing/australia/blue-mountains/medlow-bath/are
 a/13143367\n\n\nAmelia Kaag\, crushing it as always!\nThings to bring:\n\n
  	Harness*\n 	Helmet*\n 	ATC with a carabiner*\n 	Safety sling*\n 	Climbin
 g shoes\n 	Lunch\, snacks\n 	At least 2L Water\n 	Hat\, sunscreen \n 	Warm
  clothes (it can still get real chilly in the mountains!)\n 	Medications i
 f you need them (asthma puffer etc.)\n 	Any sport climbing gear you may ow
 n\n 	Good vibes!\n\n* Gear can be borrowed from the gear cupboard\, usuall
 y on Thursday 5-6pm. Please check UNSWOC Facebook page for latest gear she
 d details\n\n&nbsp\;\n\nIf you'd like to come along\, in the comment box b
 elow\, please put your climbing experience\, your messenger/facebook profi
 le link (so we can get in contact with you if you're approved)\, if you ha
 ve a car\, how many car spots you have and where you'd be driving from. La
 stly\, let us know the name of a woman or non-binary person who inspires y
 ou. Get in quick!\n\n&nbsp\;\n\nIf you have any questions\, feel free to r
 each out to any of the trip leaders or myself (https://www.facebook.com/am
 elia.vas.520/)
CATEGORIES:Climbing,Outdoor Climbing
LOCATION:https://maps.app.goo.gl/oh8KMvQJ4SWjs1ki8
END:VEVENT
BEGIN:VTIMEZONE
TZID:Australia/Sydney
X-LIC-LOCATION:Australia/Sydney
BEGIN:DAYLIGHT
DTSTART:20231001T030000
TZOFFSETFROM:+1000
TZOFFSETTO:+1100
TZNAME:AEDT
END:DAYLIGHT
END:VTIMEZONE
END:VCALENDAR