BEGIN:VCALENDAR
VERSION:2.0
PRODID:-//wp-events-plugin.com//7.2.3.1//EN
TZID:Australia/Sydney
X-WR-TIMEZONE:Australia/Sydney
BEGIN:VEVENT
UID:3666@unswoc.org
DTSTART;TZID=Australia/Sydney:20251025T100000
DTEND;TZID=Australia/Sydney:20251025T160000
DTSTAMP:20251027T031113Z
URL:https://unswoc.org/wordpress/events/womxn-sport-climbing-mt-ku-rin-gai
 -np/
SUMMARY:[FULL] Womxn Sport Climbing Mt Kuring-gai
DESCRIPTION:\n\nAmelia V\, Peta\, Phoebe and I (Gabi) are running a Womxn s
 port climbing trip in Mt Kuring-gai National Park on Saturday 25th October
 . This trip is for women and gender queer club members\, so if that's you 
 keep reading!\n\nWe'll be climbing at Lost &amp\; Found Wall which has a g
 ood variety of grades and great views of the river.\n\nThis is a bit of a 
 choose your own adventure trip\, we're keen to have you if you're looking 
 to upskill your climbing or just want hang out for a social climb with oth
 er gals and pals in the club. Let us know your climbing experience and if 
 there's anything in particular you'd like to upskill in the comment.\n\nWh
 at you'll need to bring:\n\n 	Climbing helmet*\n 	Climbing harness*\n 	Cli
 mbing Shoes*\n 	Belay device + locking carabiner *\n 	Safety sling*\n 	Any
  sport climbing gear you own\n 	At least 2L water\n 	Lunch &amp\; snacks\n
  	Medications if you need them (asthma puffer etc.)\n 	Headtorch\n 	Hat &a
 mp\; sunscreen\n 	Wind breaker or jumper\n 	Backpack to carry your gear\n\
 nItems with an asterisk (*) can be borrowed from the gear cupboard.\n\nPle
 ase ensure your messenger/facebook profile link is in your account profile
 \, otherwise also include it in your comment (so we can get in contact wit
 h you if you’re approved).\n\nIf you have any questions please reach out
  to any of the trip leaders.\n\nHope to see you there!
CATEGORIES:Outdoor Climbing
LOCATION:https://maps.app.goo.gl/qv5ab8S3QWjdRg6YA
END:VEVENT
BEGIN:VTIMEZONE
TZID:Australia/Sydney
X-LIC-LOCATION:Australia/Sydney
BEGIN:DAYLIGHT
DTSTART:20251005T030000
TZOFFSETFROM:+1000
TZOFFSETTO:+1100
TZNAME:AEDT
END:DAYLIGHT
END:VTIMEZONE
END:VCALENDAR