BEGIN:VCALENDAR
VERSION:2.0
PRODID:-//wp-events-plugin.com//7.2.3.1//EN
TZID:Australia/Sydney
X-WR-TIMEZONE:Australia/Sydney
BEGIN:VEVENT
UID:3107@unswoc.org
DTSTART;TZID=Australia/Sydney;VALUE=DATE:20221022
DTEND;TZID=Australia/Sydney;VALUE=DATE:20221023
DTSTAMP:20221018T034552Z
URL:https://unswoc.org/wordpress/events/womxn-sport-climbing-at-medlow-bat
 h/
SUMMARY:Womxn Sport Climbing at Medlow Bath
DESCRIPTION:Hey peeps\,\n\nHopefully Boree Log got you keen to head out for
  some more climbing! Or in case you missed it\, here is another great oppo
 rtunity for you to come along.\n\nSammy and I (Ang) will be leading a begi
 nner/intermediate womxn sport climbing trip to Medlow Bath crag on Saturda
 y. This trip is planned specifically for women and gender queer people to 
 encourage you to push your comfort zone\, and learn and grow in a safe and
  supportive space. Come along to connect with like-minded individuals who 
 will inspire and encourage each other and have a bloody good time :D\n\nIt
  has been amazing to see the female presence within the club stay and grow
 \, as we all become more accepting and supportive of one another. The occa
 sional trip we run like this is mainly to continue to develop this presenc
 e and make more people become comfortable and supported within the outdoor
  adventure community.\n\n[caption id="attachment_14204" align="alignnone" 
 width="225"] Linna smashing it up Hope (unfortunately not at Medlow Bath)[
 /caption]\n\nWe will most likely be heading to the Sunbath area of Medlow 
 Bath crag which is a great beginner area with plenty of route options. It 
 will suit anyone looking to go climb outdoors for the first time\, or anyo
 ne else keen to develop their skills on some lovely climbs. We will set u
 p top ropes for everybody to climb\, but also if anyone is keen to learn t
 o lead climb\, there are plenty of friendlier routes to get you started! H
 ere is some more info on the crag: https://www.thecrag.com/en/climbing/aus
 tralia/blue-mountains/medlow-bath/area/13143367\n\n&nbsp\;\n\nThings to br
 ing:\n\n 	Harness*\n 	Helmet*\n 	ATC with a carabiner*\n 	Safety sling*\n 
 	Lunch\, snacks\n 	At least 2L Water\n 	Hat\, sunscreen \n 	Warm clothes (
 it can still get real frosty in the mountains!)\n 	Medications if you need
  them (asthma puffer etc.)\n 	Any sport climbing gear you may own\n\n* Gea
 r can be borrowed from the gear cupboard\, usually on Thursday 5.30-6.30pm
 . Please check UNSWOC Facebook page for latest gear shed details\n\n&nbsp\
 ;\n\nThe weather for the weekend currently looks a bit gloomy\, so we may 
 have to postpone or make alternate plans. This will be confirmed by Thursd
 ay morning to avoid you having to go get gear without getting to climb!\n\
 nIf you have any questions\, feel free to message either of us on Facebook
  (Angela Ha or Sammy Millard)\n\nGet keen!!
CATEGORIES:Outdoor Climbing
END:VEVENT
BEGIN:VTIMEZONE
TZID:Australia/Sydney
X-LIC-LOCATION:Australia/Sydney
BEGIN:DAYLIGHT
DTSTART:20221002T030000
TZOFFSETFROM:+1000
TZOFFSETTO:+1100
TZNAME:AEDT
END:DAYLIGHT
END:VTIMEZONE
END:VCALENDAR