BEGIN:VCALENDAR
VERSION:2.0
PRODID:-//wp-events-plugin.com//7.2.3.1//EN
TZID:Australia/Sydney
X-WR-TIMEZONE:Australia/Sydney
BEGIN:VEVENT
UID:3427@unswoc.org
DTSTART;TZID=Australia/Sydney;VALUE=DATE:20240615
DTEND;TZID=Australia/Sydney;VALUE=DATE:20240616
DTSTAMP:20240620T060252Z
URL:https://unswoc.org/wordpress/events/womxn-sport-climbing-15th-june/
SUMMARY:CANCELLED (RAIN) - Womxn Sport Climbing 15th June
DESCRIPTION:Hey everyone\,\n\nCome join us (Amelia and Amelia :) ) on a beg
 inner friendly sport climbing trip on Sat 15th June for womxn and nonbinar
 y folks. Location TBD as we monitor the weather but it will be Blue Mounta
 ins or Sydney. We will arrange car pooling as usual so please let us know 
 in the sign up comment if you have a car and how many people you can take.
 \n\nIt will be an all day event so please pack accordingly.\n\nYou will ne
 ed to bring:\n\n 	At least 2L water\n 	Food and snacks for the day\n 	Warm
  clothes!! (jacket/jumper and possibly raincoat)\n 	Helmet **\n 	Harness *
 *\n 	Climbing shoes **\n 	Chalk (optional)\n 	Belay device (eg ATC) **\n 	
 Locking carabiner **\n 	Any personal medication\n 	Backpack to carry all t
 he above ^\n\nItems with an asterisk ** can be borrowed from the gear cupb
 oard on Thursday night 5-6pm if you don't have your own. You will need to 
 make a gear booking through this website under the gear tab. Since this is
  a club trip there will be no rental fee (will still be a deposit) so all 
 participants who are accepted on the trip will be given the discount code.
 \n\n&nbsp\;\n\nIf you’d like to come along\, in the comment box below\, 
 please put your climbing experience\, your messenger/facebook profile link
  (so we can get in contact with you if you’re approved)\, if you have a 
 car\, how many car spots you have and where you’d be driving from. Lastl
 y\, let us know the name of a woman or non-binary person who inspires you.
  Get in quick!\n\nFeel free to message Amelia V or I with any questions.\n
 \nCheers\,\n\nAmelia K
CATEGORIES:Climbing,Outdoor Climbing
LOCATION:https://maps.app.goo.gl/ENSkWaKYGkgqC3n39?g_st=ic
END:VEVENT
BEGIN:VTIMEZONE
TZID:Australia/Sydney
X-LIC-LOCATION:Australia/Sydney
BEGIN:STANDARD
DTSTART:20240407T020000
TZOFFSETFROM:+1100
TZOFFSETTO:+1000
TZNAME:AEST
END:STANDARD
END:VTIMEZONE
END:VCALENDAR