BEGIN:VCALENDAR
VERSION:2.0
PRODID:-//wp-events-plugin.com//7.2.3.1//EN
TZID:Australia/Sydney
X-WR-TIMEZONE:Australia/Sydney
BEGIN:VEVENT
UID:3581@unswoc.org
DTSTART;TZID=Australia/Sydney;VALUE=DATE:20250517
DTEND;TZID=Australia/Sydney;VALUE=DATE:20250518
DTSTAMP:20250429T233602Z
URL:https://unswoc.org/wordpress/events/womxn-box-creek-canyon-learn-to-ri
 g/
SUMMARY:Womxn Box Creek Canyon - learn to rig
DESCRIPTION:Hi All! Me (Margot) and assorted wives (Angela\, Zara and Emily
 ) will be running a womxn trip next Sunday! The plan is to go to Box Creek
  in Kanangra and practice rigging as this canyon has heaps of abseils\, an
 d we’ll have a high trip leader to participant ratio. Its also very open
  and sunny so hopefully we can stay warm. Ideally\, you have been on a few
  canyons before and are keen to upskill to become a trip leader/self suffi
 cient for canyoning. Kanangra is another bit farther beyond the blue mount
 ains so consider making a weekend of it with some other climbing and canyo
 ning in the mountains on Saturday (after you vote ) Here are some notes on
  the canyon: Box Creek Canyon - ropewiki It is a shorter canyon\, but we
 ’ll be practicing rigging skills so expect 8h+\n\nYou will need:\n\no To
  be keen to learn to rig and upskill\no Ready for a colder day! Its cold u
 p here these days!\no A headtorch\no A dry bag*\no A backpack to fit all y
 our gear + rope and can get wet. Preferably borrow a canyon bag from the c
 lub if you don't have one*\no Wetsuit (preferably 5mm its going to be cold
 dd)*\no Rain jacket\no Thermals\no Wool socks\no Shoes with grip\no Helmet
 *\no Harness*\no Descender (preferably an 8 style)*\no Personal safety*\no
  Locking Carabiner*\no An emergency blanket (can be bought from the gear c
 upboard – $5)\no Food and water\no Any rigging or other gear you have an
 d want to practice with\no To be not a man (sorry men)\n*Can be borrowed f
 rom the gear cupboard\n\nIf you’re keen\, put in the comments what canyo
 n experience you have\, and an overview of your rigging/rope skills experi
 ence if any. Also let me know what you are keen to learn\, if anything spe
 cific (if we have bonus time happy to teach any rope skills or other thing
 s you want to learn). To let me know you read this far let me know what th
 e last really good meal you had was. Also let me know if youll have a car 
 to drive people from sydney\, and if you would be able to pick up ropes fr
 om the gear cupboard. Get keen\, keen to upskill deez clubs women!!!
CATEGORIES:Canyoning
LOCATION:https://www.google.com.au/maps/place/33%C2%B056'42.7%22S+149%C2%B0
 59'49.2%22E/@-33.9460472,149.9850885,3629m/data=!3m1!1e3!4m4!3m3!8m2!3d-33
 .9452!4d149.997?entry=ttu&g_ep=EgoyMDI1MDQyMy4wIKXMDSoJLDEwMjExNjM5SAFQAw%
 3D%3D
END:VEVENT
BEGIN:VTIMEZONE
TZID:Australia/Sydney
X-LIC-LOCATION:Australia/Sydney
BEGIN:STANDARD
DTSTART:20250406T020000
TZOFFSETFROM:+1100
TZOFFSETTO:+1000
TZNAME:AEST
END:STANDARD
END:VTIMEZONE
END:VCALENDAR