BEGIN:VCALENDAR
VERSION:2.0
PRODID:-//wp-events-plugin.com//7.2.3.1//EN
TZID:Australia/Sydney
X-WR-TIMEZONE:Australia/Sydney
BEGIN:VEVENT
UID:3643@unswoc.org
DTSTART;TZID=Australia/Sydney:20250903T190000
DTEND;TZID=Australia/Sydney:20250903T210000
DTSTAMP:20250829T041835Z
URL:https://unswoc.org/wordpress/events/womens-adventure-film-tour-discoun
 ted-tickets%f0%9f%8e%9f%ef%b8%8f/
SUMMARY:Women’s Adventure Film Tour - Discounted Tickets!🎟️
DESCRIPTION:Women’s Adventure Film Tour!\nDiscounted Tickets\nWednesday S
 eptember 3rd\nHey Everyone!\n\nThe Women’s Adventure Film Tour is coming
  up next week! We have been lucky enough to be given a discounted tickets 
 code. If you’d be keen to attend\, sign up below\, group our FB Messenge
 r Group and we'll provide you the link/code. Amelia V set this up for us :
 ) Feel free to message Raine Bianchini if you have any questions.\n\nPrese
 nted by Mountain Designs\, the Women’s Adventure Film Tour® (WAFT) retu
 rns for its 9th year\, celebrating extraordinary women and their thrilling
  adventures. This year’s line-up features an inspiring collection of sho
 rt films that highlight stories of courage\, connection\, and pushing beyo
 nd personal limits. From mountain peaks to ocean waves\, and from the ever
 yday to the extreme\, these films showcase women from all walks of life pu
 rsuing their definition of adventure.\n\nEach film has been carefully chos
 en to show women achieving their personally adventurous goals. Adventure d
 oesn’t always mean being the fastest\, going the highest\, or doing the 
 most extreme things. For most of us\, adventure is about stepping outside 
 our comfort zone and climbing our own Everest. The Women’s Adventure Fil
 m Tour shines a light on real stories of women from a variety of cultures 
 and sports around the world\, creating an empowering and uplifting experie
 nce for audiences.\n\nThe Women’s Adventure Film Tour® is an official p
 art of Jean Hailes for Women’s Health – Women’s Health Week\, proudl
 y presented by Mountain Designs and supported by Nalgene\, Sea to Summit\,
  Capital Brewing\, PETZL\, Osprey and Big White.\n\nWatch the trailer here
 \n\nOPTIONAL: Estimate the number of climbers in the world. Purely for my 
 entertainment.
ATTACH;FMTTYPE=image/jpeg:https://unswoc.org/wordpress/wp-content/uploads/
 2025/08/2025_WAFT_ANZ-Eventbrite.png
CATEGORIES:Social Event
LOCATION:https://maps.app.goo.gl/NqUckrNE38MFCdGi6?g_st=ic
END:VEVENT
BEGIN:VTIMEZONE
TZID:Australia/Sydney
X-LIC-LOCATION:Australia/Sydney
BEGIN:STANDARD
DTSTART:20250406T020000
TZOFFSETFROM:+1100
TZOFFSETTO:+1000
TZNAME:AEST
END:STANDARD
END:VTIMEZONE
END:VCALENDAR