BEGIN:VCALENDAR
VERSION:2.0
PRODID:-//wp-events-plugin.com//7.2.3.1//EN
TZID:Australia/Sydney
X-WR-TIMEZONE:Australia/Sydney
BEGIN:VEVENT
UID:3712@unswoc.org
DTSTART;TZID=Australia/Sydney:20251222T110000
DTEND;TZID=Australia/Sydney:20251222T160000
DTSTAMP:20251221T220452Z
URL:https://unswoc.org/wordpress/events/wollongambie-float/
SUMMARY:Wollongambie Float
DESCRIPTION:Starting at 11am sharp at cathedral of ferns.\n\nFloating Gambi
 e 1 or 2
LOCATION:https://maps.app.goo.gl/rcNZFMvW9BodeeGx6
END:VEVENT
BEGIN:VTIMEZONE
TZID:Australia/Sydney
X-LIC-LOCATION:Australia/Sydney
BEGIN:DAYLIGHT
DTSTART:20251005T030000
TZOFFSETFROM:+1000
TZOFFSETTO:+1100
TZNAME:AEDT
END:DAYLIGHT
END:VTIMEZONE
END:VCALENDAR