BEGIN:VCALENDAR
VERSION:2.0
PRODID:-//wp-events-plugin.com//7.2.3.1//EN
TZID:Australia/Sydney
X-WR-TIMEZONE:Australia/Sydney
BEGIN:VEVENT
UID:1956@unswoc.org
DTSTART;VALUE=DATE:20160305
DTEND;VALUE=DATE:20160306
DTSTAMP:20160228T030502Z
URL:https://unswoc.org/wordpress/events/wollongambe-2-lilo-flotilla/
SUMMARY:Wollongambe 2 Lilo Flotilla
DESCRIPTION:TRIP FULL -If you have requested a place I have left your booki
 ng pending and will add you if anyone cancels.  First in best dress I wil
 l add people in the order I have received booking emails.\n\nLilo trip dow
 n Wollongambe 2 (aka easy canyoning)\n\nBasically this trip involves walki
 ng down a big hill\, blowing up a mattress and floating down the river\, t
 hen getting out and walking back up a big hill (with some scrambling over 
 rocks where there is not enough water to swim.\n\nWe will begin at cathedr
 al of ferns camping ground in Mt Wilson at 9am and aim to be finished by 5
 pm. I will be camping there the nights before and after and you are more t
 han welcome to join me if you would like. It is a free campground with dro
 p loos.\n\nYou will need to read the instruction here and bring gear as pe
 r the list\, you will need a wetsuit\, lilo and helmet–which can be borr
 owed from the gear night on Wednesday if you don’t have these. You do NO
 T need abseiling equipment.\n\nhttp://unswoc.org/wordpress/sports/canyonin
 g/\n\nIf you do not show up with the correct warm clothes\, sturdy shoes a
 nd equipment you will be left in the car –I am not kidding\, people have
  previously shown up in thongs!\n\nThere are some really nice photos from 
 someone else’s trip here: https://smiffyspics.smugmug.com/Adventure/Cany
 ons/Wollangambe-2-Jan-2013/\n\nIf you have any questions please feel free 
 to contact me -via the FB page is the easiest (seriously -I am not as grum
 py as I sound above). It should be a lovely day out\n\nLaura :-)\n\n&nbsp\
 ;
CATEGORIES:Canyoning
END:VEVENT
END:VCALENDAR