BEGIN:VCALENDAR
VERSION:2.0
PRODID:-//wp-events-plugin.com//7.2.3.1//EN
TZID:Australia/Sydney
X-WR-TIMEZONE:Australia/Sydney
BEGIN:VEVENT
UID:711@unswoc.org
DTSTART:20150314T220000Z
DTEND:20150315T050000Z
DTSTAMP:20150310T210811Z
URL:https://unswoc.org/wordpress/events/wollongambe-1-lilo-extravaganza/
SUMMARY:Wollongambe 1 Lilo extravaganza
DESCRIPTION:Trip is now full -if you missed out please check out Sam's trip
 \, which is the same but doing the other part of the Wollongambe: http://
 unswoc.org/wordpress/events/sunday-canyoning-the-recovery-canyon/\n\nWe'll
  be heading down to the Wollongambe for a bit of a walk\, swim and float d
 own the river\, a fairly relaxed day\, no abseils required\, just a flotat
 ion device of some form.  No canyoning experience required\, you just nee
 d legs with plenty of energy to get yourself up the hill at the end of the
  day.  Please note you must have booked a place on Boree Log to attend.\n
 \nYou'll need to bring:\n\n-sturdy enclosed shoes that can get wet/dirty\n
 \n-full set of dry clothes including socks and something warm for your hea
 d\, ie beanie\n\n-thermals or a wetsuit\n\n-flotation device\n\n-packed lu
 nch and drink bottle (and snacks -the water will be chilly so you'll get h
 ungry)\n\n-backpack (and a drybag if you have one)\n\nThis trip leaves fro
 m the campground so we will pack up\, clean up\, head down on the trip\, t
 hen drive home :-)\n\nIf you haven't been canyoning before please read the
  canyoning information above in the "sports" tab\n\n&nbsp\;
CATEGORIES:Canyoning
LOCATION:\, \, 
X-APPLE-STRUCTURED-LOCATION;VALUE=URI;X-ADDRESS=\, ;X-APPLE-RADIUS=100;X-TI
 TLE=:geo:0,0
END:VEVENT
END:VCALENDAR