BEGIN:VCALENDAR
VERSION:2.0
PRODID:-//wp-events-plugin.com//7.2.3.1//EN
TZID:Australia/Sydney
X-WR-TIMEZONE:Australia/Sydney
BEGIN:VEVENT
UID:1977@unswoc.org
DTSTART:20160319T220000Z
DTEND:20160320T060000Z
DTSTAMP:20160315T103956Z
URL:https://unswoc.org/wordpress/events/wollangambe-2-boree-log-sunday/
SUMMARY:Wollangambe 2 - Boree Log Sunday
DESCRIPTION:P.S. This is a beginner canyoning trip. You need to be signed u
 p to Boree Log to attend.\n\nNeed some R&amp\;R after partying hard the ni
 ght before? Join me for an easy float down Wollangambe 2 Canyon\, which fe
 atures some fantastic rock formations. We can also spend time jumping into
  water\, deep water bouldering\, and reversing Whungee Wheengee Canyon.\n\
 nThe nitty gritty\n\nPrior canyoning experience is not necessary. You need
  to be a COMPETENT SWIMMER in case your lilo breaks (there are some looong
  swims). You need some basic fitness because there is a big hill to walk u
 p at the end of the canyon.\n\nWhat to bring:\n\n	hiking clothes for the w
 alk in/out\n	spare warm clothing (thermals or fleece)\n	raincoat (if rain 
 is forecast)\n	hat\, sunnies\, sunscreen (optional)\n	enclosed shoes with 
 good grip (e.g. joggers)\n	wetsuit (shorty wetsuit is recommended)\n	lilo 
 (borrow from the club\, or buy from kmart/rebel sport/anaconda) (the recta
 ngular ones are highly recommended\, doughnut shapes lilos are terrible)\n
 	helmet (climbing helmet preferred\, bike helmet ok)\n	dry bag\n	head torc
 h\n	at least 2L of water\n	lunch and snacks\n	strong backpack to fit all y
 our stuff\n	camera (optional)\n	chocolate (optional)\n	a good selection of
  puns (highly recommended)\n\nThis trip is currently capped at 10 people.\
 n\nSome people (Liam plus everyone else) will meet at Cathedral of Ferns c
 ampsite at 9:00am on Sunday. It takes about 40 minutes to walk to the star
 t of the canyon\, which involves 2 short easy downclimbs. You can check ou
 t the route on the track notes and the map. Everyone else (myself plus 2 o
 thers who did Serendipity the night before and camped in the canyon) will
  meet at the start of the Wollangambe 2 Canyon around 10:00am. All things
  going to plan\, we should get back to Cathedral of Ferns by 5:00pm.\n\nIf
  you have any questions\, message me on facebook or send me an email :D
ATTACH;FMTTYPE=image/jpeg:https://unswoc.org/wordpress/wp-content/uploads/
 2016/03/Wollangambe-One_Dec-2009.jpg
CATEGORIES:Canyoning
END:VEVENT
END:VCALENDAR