BEGIN:VCALENDAR
VERSION:2.0
PRODID:-//wp-events-plugin.com//7.2.3.1//EN
TZID:Australia/Sydney
X-WR-TIMEZONE:Australia/Sydney
BEGIN:VEVENT
UID:1507@unswoc.org
DTSTART:20151031T210000Z
DTEND:20151101T050000Z
DTSTAMP:20151028T024254Z
URL:https://unswoc.org/wordpress/events/wolgan-trad-climbing/
SUMMARY:Wolgan Trad Climbing
DESCRIPTION:Join me for a day of trad climbing on the Upper Cliffs of Old B
 aldy\, the stunning high cliff right next to the Borree Log campground.\n
 \nhttps://www.thecrag.com/climbing/australia/wolgan-valley/area/12042559\n
 \nI'm keen to climb either Central Direct\, Scimitar or Uprising.\n\nYou w
 ill need to be at least an intermediate climber knowing how to lead belay 
 and abseil\, and top-rope minimum grade 18 outdoors. You will learn the sk
 ills for a trad multipitch route\, how to take out trad gear while secondi
 ng\, and how to jam your fist into a crack. I'll bring the rope &amp\; tra
 d gear. You'll need to bring your own harness\, helmet\, safety\, belay de
 vice\, 2+ locking carabiners\, shoes\, chalk.\n\nMessage me on Facebook if
  you are keen to join the trip: https://www.facebook.com/alastair.mcdowel
 l.9\n\nCheers!\n\nAlastair\n\n&nbsp\;
CATEGORIES:Outdoor Climbing
LOCATION:Newnes Campground\, Wolgan Road\, Newnes\, NSW\, Australia
GEO:-33.174751;150.237030
X-APPLE-STRUCTURED-LOCATION;VALUE=URI;X-ADDRESS=Wolgan Road\, Newnes\, NSW\
 , Australia;X-APPLE-RADIUS=100;X-TITLE=Newnes Campground:geo:-33.174751,15
 0.237030
END:VEVENT
END:VCALENDAR