BEGIN:VCALENDAR
VERSION:2.0
PRODID:-//wp-events-plugin.com//7.2.3.1//EN
TZID:Australia/Sydney
X-WR-TIMEZONE:Australia/Sydney
BEGIN:VEVENT
UID:3607@unswoc.org
DTSTART;TZID=Australia/Sydney;VALUE=DATE:20250727
DTEND;TZID=Australia/Sydney;VALUE=DATE:20250728
DTSTAMP:20250716T141513Z
URL:https://unswoc.org/wordpress/events/wj-palooza-sunday-punchbowl-advanc
 ed/
SUMMARY:[WJ Palooza] SUNDAY - Punchbowl (Advanced) - FULL
DESCRIPTION:Sign up for ONE Saturday and ONE Sunday trip. If you do not
  get accepted on your first choice trip then you may sign up for a differe
 nt one. (Same format as Boree Log!). You must be signed up to this main e
 vent to sign up to individual trips\nSignups Open at 8pm Monday 14th\n\n&n
 bsp\;\n\nVertical\, sporty\, and BIG! Punchbowl has it all\, abseil in and
  experience features such as the “Flattener”\, and “The Laundry Chut
 e”. Explore “Jimmy’s Hole”\, and spend some time sculpting in the 
 “Dung Hole”. Top it off by sliding down the “Slippery Dips” and sq
 ueezing through “Strawberry Shortcut” before a ~25m prusik in two pitc
 hes back to daylight (and the bathrooms).\n\nPunchbowl is an excellent cav
 e filled with large chambers connected by some squeezes. To enter you will
  need to abseil down ~25m. To exit you must ascend ~25m back up the rope! 
 This is a big day full of exploration. You must be fit\, and comfortable w
 ith heights to come on this trip. Rope skills are MANDATORY.\n\n FYI Ther
 e are a large number of bats present in this cave! (and also bat poo / gua
 no). They are very small and cute - very unlikely to bite you!\nGear that 
 can be borrowed on the day of\nPlease let us know in the comments what gea
 r you are missing from this list. Do NOT borrow these items from the gear 
 cupboard - the club will bring this equipment directly to Wee Jasper (simi
 lar to Boree Log!).\n\nCaving Gear:\n\n 	Helmet\n\nVertical Gear:\n\n 	\n\
 n 	Harness (Canyon harness preferred).\n 	Hand Ascender (eg Jumar\, Petzl 
 Basic\, or similar)\n 	Chest ascender (eg Croll or similar)\n 	Descender (
 Inline - Petzl Stop\, Raprak or similar)\n 	Chest Harness (Dedicated chest
  harness or 120cm sling)\n 	Dual Cows’ tail (safety tether with 2 ends)\
 n 	Foot loop (120cm sling\, or long accessory cord)\n\n\n\n\n 	4 Locking C
 arabiners\n 	2 Non locking carabiners (or locking carabiners)\n\nBYO Gear 
 for Caving\n\n 	\n\n 	Caving Clothes (overalls\, or OLD long pants and lon
 g sleeve shirt - The club will bring some overalls\, but these are not gua
 ranteed to fit you!)\n 	Thermals to wear in cave under clothes\n 	2x Headl
 ights + spare batteries\n\n 	For those who have rechargeable headlights - 
 I recommend bringing a powerbank. The cold can drain the batteries overnig
 ht\n\n\n 	Shoes that can get dirty and muddy (eg Sneakers\, Gumboots)\n 	S
 mall bottle of water (this may become your pee bottle if you need to go)\n
  	Small packed lunch - nothing messy that will end up all over the floor!\
 n 	Small backpack that can get dirty\n 	Snacks!\n 	Soft Kneepads and/or El
 bowpads - OPTIONAL but nice to have\n 	Your best Bane or Batman impression
 \n\n\n\n \nLet us know the following in your booking comment!\nRequests W
 ITHOUT comments will be automatically declined.\n\n 	What gear do you need
  to borrow on the day of?\n 	What's the most extreme place you've gone for
  a swim?\n 	What previous experience do you have with ascending &amp\; des
 cending /abseiling? (eg. Abseiling with fig 8s\, ascending using prusiks/j
 umars\, passing rebelays and redirects etc)\n 	Have you had any experience
  with climbing / bouldering / scrambling around rocks?\n\n&nbsp\;
ATTACH;FMTTYPE=image/jpeg:https://unswoc.org/wordpress/wp-content/uploads/
 2025/08/PXL_20250629_043352218.RAW-01.COVER-1-scaled.jpg
CATEGORIES:Caving
LOCATION:https://maps.app.goo.gl/cc3hMJo6nqJ1rkhi7
END:VEVENT
BEGIN:VTIMEZONE
TZID:Australia/Sydney
X-LIC-LOCATION:Australia/Sydney
BEGIN:STANDARD
DTSTART:20250406T020000
TZOFFSETFROM:+1100
TZOFFSETTO:+1000
TZNAME:AEST
END:STANDARD
END:VTIMEZONE
END:VCALENDAR