BEGIN:VCALENDAR
VERSION:2.0
PRODID:-//wp-events-plugin.com//7.2.3.1//EN
TZID:Australia/Sydney
X-WR-TIMEZONE:Australia/Sydney
BEGIN:VEVENT
UID:3609@unswoc.org
DTSTART;TZID=Australia/Sydney;VALUE=DATE:20250727
DTEND;TZID=Australia/Sydney;VALUE=DATE:20250728
DTSTAMP:20250712T101115Z
URL:https://unswoc.org/wordpress/events/wj-palooza-sunday-hike/
SUMMARY:[WJ Palooza] SUNDAY - Bushwalk
DESCRIPTION:Sign up for ONE Saturday and ONE Sunday trip. If you do not
  get accepted on your first choice trip then you may sign up for a differe
 nt one. (Same format as Boree Log!). You must be signed up to this main e
 vent to sign up to individual trips\nSignups Open at 8pm Monday 14th\n\n&n
 bsp\;\n\nInterested in brushing up on your navigation skills? Keen to lear
 n more about the local botany and wildlife? Or maybe just want to capture 
 some beautiful nature shots? Join Hugh for a relaxing half-day bushwalk al
 ong part of the Hume &amp\; Hovell Track!\n\nThere’ll be plenty to see a
 nd learn along the way. And who knows? A visit to the stunning Mount Wee J
 asper might even be on the cards!\n\n&nbsp\;\n\n&nbsp\;\n\n\n\n\nFrog I fo
 und at Wee Jasper\nBYO Gear\n\n 	\n\n 	Hiking clothes suitable to weather\
 n 	Windbreaker / Warm Jacket\n 	Hat\n 	Shoes\n 	Water (at least 1L)\n 	Sma
 ll packed lunch - nothing messy that will end up all over the floor!\n 	Ba
 ckpack to carry your stuff\n 	Snacks!\n 	Headlight!\n 	ID if you want to
  visit the distillery\n\n\n\n&nbsp\;\nLet us know the following in your bo
 oking comment!\nRequests WITHOUT comments will be automatically declined.\
 n\n 	What's your favourite native flower?\n\n
ATTACH;FMTTYPE=image/jpeg:https://unswoc.org/wordpress/wp-content/uploads/
 2025/07/WhatsApp-Image-2025-07-12-at-01.23.11_28648565.jpg
CATEGORIES:Bushwalking
LOCATION:https://maps.app.goo.gl/cc3hMJo6nqJ1rkhi7
END:VEVENT
BEGIN:VTIMEZONE
TZID:Australia/Sydney
X-LIC-LOCATION:Australia/Sydney
BEGIN:STANDARD
DTSTART:20250406T020000
TZOFFSETFROM:+1100
TZOFFSETTO:+1000
TZNAME:AEST
END:STANDARD
END:VTIMEZONE
END:VCALENDAR