BEGIN:VCALENDAR
VERSION:2.0
PRODID:-//wp-events-plugin.com//7.2.3.1//EN
TZID:Australia/Sydney
X-WR-TIMEZONE:Australia/Sydney
BEGIN:VEVENT
UID:3617@unswoc.org
DTSTART;TZID=Australia/Sydney;VALUE=DATE:20250727
DTEND;TZID=Australia/Sydney;VALUE=DATE:20250728
DTSTAMP:20250712T100955Z
URL:https://unswoc.org/wordpress/events/wj-palooza-sunday-gong-beginner/
SUMMARY:[WJ Palooza] SUNDAY - Gong (Beginner)
DESCRIPTION:Sign up for ONE Saturday and ONE Sunday trip. If you do not
  get accepted on your first choice trip then you may sign up for a differe
 nt one. (Same format as Boree Log!). You must be signed up to this main e
 vent to sign up to individual trips\nSignups Open at 8pm Monday 14th\n\nEn
 joy a short ladder pitch into one of the prettiest caves in Wee Jasper. Yo
 u will need to crawl down a narrow passage and climb up some muddy slopes 
 to access “Gong Room”\, where you can enjoy some excellent decorations
 . On your way back out you can challenge yourself with some optional squee
 zes before climbing out and racing the other groups back to the showers. 
 \n\nGong is suitable for anyone fit. There is no ropework required. The la
 dder requires some strength to negotiate but it is well worth it.\nGear th
 at can be borrowed on the day of:\nPlease let us know in the comments what
  gear you are missing from this list. Do NOT borrow these items from the g
 ear cupboard - the club will bring this equipment directly to Wee Jasper (
 similar to Boree Log!).\n\nCaving Gear:\n\n 	Helmet\n\nBYO Gear\n\n 	\n\n 
 	Caving Clothes (overalls\, or OLD long pants and long sleeve shirt - The 
 club will bring some overalls\, but these are not guaranteed to fit you!)\
 n 	Thermals to wear in cave under clothes\n 	2x Headlights + spare batteri
 es\n\n 	For those who have rechargeable headlights - I recommend bringing 
 a powerbank. The cold can drain the batteries overnight\n\n\n 	Shoes that 
 can get dirty and muddy (eg Sneakers\, Gumboots)\n 	Small bottle of water 
 (this may become your pee bottle if you need to go)\n 	Small packed lunch 
 - nothing messy that will end up all over the floor!\n 	Small backpack tha
 t can get dirty\n 	Snacks!\n 	Soft Kneepads and/or Elbowpads - OPTIONAL bu
 t nice to have\n 	Your best Bane or Batman impression\n\n\n\n \nLet us kn
 ow the following in your booking comment!\nRequests WITHOUT comments will 
 be automatically declined.\n\n 	What gear do you need to borrow on the day
  of?\n 	Tell me your favourite pun.\n 	Have you had any experience with cl
 imbing / bouldering / scrambling around rocks?\n\n&nbsp\;
ATTACH;FMTTYPE=image/jpeg:https://unswoc.org/wordpress/wp-content/uploads/
 2025/07/IMG_0912-1-scaled.jpg
CATEGORIES:Caving
LOCATION:https://maps.app.goo.gl/cc3hMJo6nqJ1rkhi7
END:VEVENT
BEGIN:VTIMEZONE
TZID:Australia/Sydney
X-LIC-LOCATION:Australia/Sydney
BEGIN:STANDARD
DTSTART:20250406T020000
TZOFFSETFROM:+1100
TZOFFSETTO:+1000
TZNAME:AEST
END:STANDARD
END:VTIMEZONE
END:VCALENDAR