BEGIN:VCALENDAR
VERSION:2.0
PRODID:-//wp-events-plugin.com//7.2.3.1//EN
TZID:Australia/Sydney
X-WR-TIMEZONE:Australia/Sydney
BEGIN:VEVENT
UID:3611@unswoc.org
DTSTART;TZID=Australia/Sydney;VALUE=DATE:20250727
DTEND;TZID=Australia/Sydney;VALUE=DATE:20250728
DTSTAMP:20250716T141531Z
URL:https://unswoc.org/wordpress/events/wj-palooza-sunday-dip-intermediate
 -abseil-only/
SUMMARY:[WJ Palooza] SUNDAY - Dip (Intermediate Abseil ONLY) - FULL
DESCRIPTION:Sign up for ONE Saturday and ONE Sunday trip. If you do not
  get accepted on your first choice trip then you may sign up for a differe
 nt one. (Same format as Boree Log!). You must be signed up to this main e
 vent to sign up to individual trips\nSignups Open at 8pm Monday 14th\n\nAb
 seil/squeeze down a 20m pitch and enjoy Dip Cave! With 5 distinct sections
  (called series) there is plenty to explore. The adventurers can try to fi
 nd “Dismal Chamber”. Enjoy the pretty features in the “Main Chamber
 ” before crawling through the “Rathole” to check out the “Daylight
  Chamber”. Laugh at the others prusiking out and get ready for a gentle 
 walk back to the cars.\n\nThis trip requires you to abseil but there is NO
  ascending\, so minimal rope skills are required. There is a mandatory squ
 eeze to exit the cave. You just need to be fit and have a keen sense of ad
 venture. \n\nFYI There are a large number of bats present in this cave! (
 and also bat poo / guano). They are very small and cute - very unlikely to
  bite you!\nGear that can be borrowed on the day of:\nPlease let us know i
 n the comments what gear you are missing from this list. Do NOT borrow the
 se items from the gear cupboard - the club will bring this equipment direc
 tly to Wee Jasper (similar to Boree Log!).\n\nCaving Gear:\n\n 	Helmet\n\n
 Vertical Gear:\n\n 	Harness\n\n\n 	\n\n 	Descender (Figure 8)\n 	Safety (P
 AS or 120cm sling)\n\n\n\n\n 	3 x Locking Carabiners\n\nBYO Gear for Cavin
 g\n\n 	\n\n 	Caving Clothes (overalls\, or OLD long pants and long sleeve 
 shirt - The club will bring some overalls\, but these are not guaranteed t
 o fit you!)\n 	Thermals to wear in cave under clothes\n 	2x Headlights + s
 pare batteries\n\n 	For those who have rechargeable headlights - I recomme
 nd bringing a powerbank. The cold can drain the batteries overnight\n\n\n 
 	Shoes that can get dirty and muddy (eg Sneakers\, Gumboots)\n 	Small bott
 le of water (this may become your pee bottle if you need to go)\n 	Small p
 acked lunch - nothing messy that will end up all over the floor!\n 	Small 
 backpack that can get dirty\n 	Snacks!\n 	Soft Kneepads and/or Elbowpads -
  OPTIONAL but nice to have\n 	Your best Bane or Batman impression\n\n\n\n
  \nLet us know the following in your booking comment!\nRequests WITHOUT c
 omments will be automatically declined.\n\n 	What gear do you need to borr
 ow on the day of?\n 	What previous experience do you have with ascending &
 amp\; descending /abseiling? (eg. Abseiling with fig 8s\, ascending using 
 prusiks/jumars\, passing rebelays and redirects etc)\n 	Have you had any e
 xperience with climbing / bouldering / scrambling around rocks?\n 	Whats y
 ou're favourite knot? \n\n&nbsp\;
ATTACH;FMTTYPE=image/jpeg:https://unswoc.org/wordpress/wp-content/uploads/
 2025/08/PXL_20250628_042808762.NIGHT-1-scaled.jpg
CATEGORIES:Caving
LOCATION:https://maps.app.goo.gl/cc3hMJo6nqJ1rkhi7
END:VEVENT
BEGIN:VTIMEZONE
TZID:Australia/Sydney
X-LIC-LOCATION:Australia/Sydney
BEGIN:STANDARD
DTSTART:20250406T020000
TZOFFSETFROM:+1100
TZOFFSETTO:+1000
TZNAME:AEST
END:STANDARD
END:VTIMEZONE
END:VCALENDAR