BEGIN:VCALENDAR
VERSION:2.0
PRODID:-//wp-events-plugin.com//7.2.3.1//EN
TZID:Australia/Sydney
X-WR-TIMEZONE:Australia/Sydney
BEGIN:VEVENT
UID:3614@unswoc.org
DTSTART;TZID=Australia/Sydney;VALUE=DATE:20250726
DTEND;TZID=Australia/Sydney;VALUE=DATE:20250727
DTSTAMP:20250716T133350Z
URL:https://unswoc.org/wordpress/events/wj-palooza-saturday-signature-begi
 nner/
SUMMARY:[WJ Palooza] SATURDAY - Signature (Beginner)
DESCRIPTION:Sign up for ONE Saturday and ONE Sunday trip. If you do not
  get accepted on your first choice trip then you may sign up for a differe
 nt one. (Same format as Boree Log!). You must be signed up to this main e
 vent to sign up to individual trips\nSignups Open at 8pm Monday 14th\n\nIf
  you think hide and seek above ground is fun\, try it underground! Signatu
 re cave is an excellent playground\, with so many great hiding spots for g
 ames of sardines. Named due to the graffiti covering its walls (try and fi
 nd the oldest!)\, it's a great\, walk-in cave for those who are sick of th
 eir harness. Signature Cave is suitable for anyone! No ropework\, no ladde
 rs\, just pure underground fun close to camp.\n\nFYI There are a number of
  bats present in this cave! (and also bat poo / guano). They are very smal
 l and cute - very unlikely to bite you!\n\nAn except and pictures from htt
 ps://www.johnevans.id.au/Pages/Walk%20Descriptions/2010_08_28.html below:\
 n"The photos can speak for themselves - a magic place. Grafitti in places\
 , some as old as the late 1800s. Most done in black soot. The signatures r
 eminded me of the walls my parents-in-law's attic toilet at The Old Vicara
 ge - but here the visitors' book was vandalous. An area of rimstone dams\,
  not pristine because of the large number of visitors over many years\, bu
 t still most interesting. Water droplets twinkled in places. Down an easy 
 crawl\, we came to a dragons tooth.... We had ample time to poke around a 
 bit\, finally coming back up a level through the crawl and eventually back
  out into the lovely sunlight."\n\n\n\n\n\n\n\n\n\n\n\n\n\n\n\n\n\n\n\n\n\
 nA jaunt down to Dogleg may be on the cards\, pending interest! 😉\n\n&n
 bsp\;\nGear that can be borrowed on the day of:\nPlease let us know in the
  comments what gear you are missing from this list. Do NOT borrow these it
 ems from the gear cupboard - the club will bring this equipment directly t
 o Wee Jasper (similar to Boree Log!).\n\nCaving Gear:\n\n 	Helmet\n\nBYO G
 ear\n\n 	\n\n\n 	\n\n 	Caving Clothes (overalls\, or OLD long pants and lo
 ng sleeve shirt - The club will bring some overalls\, but these are not gu
 aranteed to fit you!)\n 	Thermals to wear in cave under clothes\n 	2x Head
 lights + spare batteries\n\n 	For those who have rechargeable headlights -
  I recommend bringing a powerbank. The cold can drain the batteries overni
 ght\n\n\n 	Shoes that can get dirty and muddy (eg Sneakers\, Gumboots)\n 	
 Small bottle of water (this may become your pee bottle if you need to go)\
 n 	Small packed lunch - nothing messy that will end up all over the floor!
 \n 	Small backpack that can get dirty\n 	Snacks!\n 	Soft Kneepads and/or E
 lbowpads - OPTIONAL but nice to have\n 	Your best Bane or Batman impressio
 n\n\n\n\n \nLet us know the following in your booking comment!\nRequests 
 WITHOUT comments will be automatically declined.\n\n 	What gear do you nee
 d to borrow on the day of?\n 	Have you had any experience with climbing / 
 bouldering / scrambling around rocks?\n 	What's your favourite flavour of 
 icecream?\n 	Would you leave a signature in a cave?\n\n&nbsp\;
ATTACH;FMTTYPE=image/jpeg:https://unswoc.org/wordpress/wp-content/uploads/
 2025/07/2010-08-28-018-Signature-Cave-scaled.jpg
CATEGORIES:Caving
LOCATION:https://maps.app.goo.gl/cc3hMJo6nqJ1rkhi7
END:VEVENT
BEGIN:VTIMEZONE
TZID:Australia/Sydney
X-LIC-LOCATION:Australia/Sydney
BEGIN:STANDARD
DTSTART:20250406T020000
TZOFFSETFROM:+1100
TZOFFSETTO:+1000
TZNAME:AEST
END:STANDARD
END:VTIMEZONE
END:VCALENDAR