BEGIN:VCALENDAR
VERSION:2.0
PRODID:-//wp-events-plugin.com//7.2.3.1//EN
TZID:Australia/Sydney
X-WR-TIMEZONE:Australia/Sydney
BEGIN:VEVENT
UID:3616@unswoc.org
DTSTART;TZID=Australia/Sydney;VALUE=DATE:20250726
DTEND;TZID=Australia/Sydney;VALUE=DATE:20250727
DTSTAMP:20250717T224505Z
URL:https://unswoc.org/wordpress/events/wj-palooza-saturday-gong-beginner/
SUMMARY:[WJ Palooza] SATURDAY - Gong (Beginner)
DESCRIPTION:Sign up for ONE Saturday and ONE Sunday trip. If you do not
  get accepted on your first choice trip then you may sign up for a differe
 nt one. (Same format as Boree Log!). You must be signed up to this main e
 vent to sign up to individual trips\nSignups Open at 8pm Monday 14th\n\n&n
 bsp\;\n\nEnjoy a short ladder pitch into one of the prettiest caves in Wee
  Jasper. You will need to crawl down a narrow passage and climb up some mu
 ddy slopes to access “Gong Room”\, where you can enjoy some excellent 
 decorations. On your way back out you can challenge yourself with some opt
 ional squeezes before climbing out and racing the other groups back to the
  showers. \n\nGong is suitable for anyone fit. There is no ropework requi
 red. The ladder requires some strength to negotiate but it is well worth i
 t.\nGear that can be borrowed on the day of:\nPlease let us know in the co
 mments what gear you are missing from this list. Do NOT borrow these items
  from the gear cupboard - the club will bring this equipment directly to W
 ee Jasper (similar to Boree Log!).\n\nCaving Gear:\n\n 	Helmet\n\n&nbsp\;\
 nBYO Gear for Caving\n\n 	\n\n 	Caving Clothes (overalls\, or OLD long pan
 ts and long sleeve shirt - The club will bring some overalls\, but these a
 re not guaranteed to fit you!)\n 	Thermals to wear in cave under clothes\n
  	2x Headlights + spare batteries\n\n 	For those who have rechargeable hea
 dlights - I recommend bringing a powerbank. The cold can drain the batteri
 es overnight\n\n\n 	Shoes that can get dirty and muddy (eg Sneakers\, Gumb
 oots)\n 	Small bottle of water (this may become your pee bottle if you nee
 d to go)\n 	Small packed lunch - nothing messy that will end up all over t
 he floor!\n 	Small backpack that can get dirty\n 	Snacks!\n 	Soft Kneepads
  and/or Elbowpads - OPTIONAL but nice to have\n 	Your best Bane or Batman 
 impression\n\n\n\n&nbsp\;\nLet us know the following in your booking comme
 nt!\nRequests WITHOUT comments will be automatically declined.\n\n 	What g
 ear do you need to borrow on the day of?\n 	Have you had any experience wi
 th climbing / bouldering / scrambling around rocks?\n 	Pick one the follow
 ing fears: heights\, bats\, dark\, bottomless pits\, tight spaces\, failur
 e\, MS Escher artwork\n\n&nbsp\;
ATTACH;FMTTYPE=image/jpeg:https://unswoc.org/wordpress/wp-content/uploads/
 2025/07/IMG_0912-1-scaled.jpg
CATEGORIES:Caving
LOCATION:https://maps.app.goo.gl/cc3hMJo6nqJ1rkhi7
END:VEVENT
BEGIN:VTIMEZONE
TZID:Australia/Sydney
X-LIC-LOCATION:Australia/Sydney
BEGIN:STANDARD
DTSTART:20250406T020000
TZOFFSETFROM:+1100
TZOFFSETTO:+1000
TZNAME:AEST
END:STANDARD
END:VTIMEZONE
END:VCALENDAR