BEGIN:VCALENDAR
VERSION:2.0
PRODID:-//wp-events-plugin.com//7.2.3.1//EN
TZID:Australia/Sydney
X-WR-TIMEZONE:Australia/Sydney
BEGIN:VEVENT
UID:3608@unswoc.org
DTSTART;TZID=Australia/Sydney;VALUE=DATE:20250726
DTEND;TZID=Australia/Sydney;VALUE=DATE:20250727
DTSTAMP:20250712T100500Z
URL:https://unswoc.org/wordpress/events/wj-palooza-saturday-dip-intermedia
 te-abseil-only/
SUMMARY:[WJ Palooza] SATURDAY- Dip (Intermediate Abseil ONLY)
DESCRIPTION:Sign up for ONE Saturday and ONE Sunday trip. If you do not
  get accepted on your first choice trip then you may sign up for a differe
 nt one. (Same format as Boree Log!). You must be signed up to this main e
 vent to sign up to individual trips\nSignups Open at 8pm Monday 14th\n\n&n
 bsp\;\n\nAbseil/squeeze down a 20m pitch and enjoy Dip Cave! With 5 distin
 ct sections (called series) there is plenty to explore. The adventurers ca
 n try to find “Dismal Chamber”. Enjoy the pretty features in the “Ma
 in Chamber” before crawling through the “Rathole” to check out the 
 “Daylight Chamber”. Laugh at the others prusiking out and get ready fo
 r a gentle walk back to the cars.\n\nThis trip requires you to abseil but 
 there is NO ascending\, so minimal rope skills are required. There is a ma
 ndatory squeeze to exit the cave. You just need to be fit and have a keen 
 sense of adventure. \n\nFYI There are a large number of bats present in t
 his cave! (and also bat poo / guano). They are very small and cute - very 
 unlikely to bite you!\nGear that can be borrowed on the day of:\nPlease le
 t us know in the comments what gear you are missing from this list. Do NOT
  borrow these items from the gear cupboard - the club will bring this equi
 pment directly to Wee Jasper (similar to Boree Log!).\n\nCaving Gear:\n\n 
 	Helmet\n\nVertical Gear:\n\n 	Harness\n\n\n 	\n\n 	Descender (Figure 8)\n
  	Safety (PAS or 120cm sling)\n\n\n\n\n 	3 x Locking Carabiners\n\n&nbsp\;
 \nBYO Gear for Caving\n\n 	\n\n 	Caving Clothes (overalls\, or OLD long pa
 nts and long sleeve shirt - The club will bring some overalls\, but these 
 are not guaranteed to fit you!)\n 	Thermals to wear in cave under clothes\
 n 	2x Headlights + spare batteries\n\n 	For those who have rechargeable he
 adlights - I recommend bringing a powerbank. The cold can drain the batter
 ies overnight\n\n\n 	Shoes that can get dirty and muddy (eg Sneakers\, Gum
 boots)\n 	Small bottle of water (this may become your pee bottle if you ne
 ed to go)\n 	Small packed lunch - nothing messy that will end up all over 
 the floor!\n 	Small backpack that can get dirty\n 	Snacks!\n 	Soft Kneepad
 s and/or Elbowpads - OPTIONAL but nice to have\n 	Your best Bane or Batman
  impression\n\n\n\n \nLet us know the following in your booking comment!\
 nRequests WITHOUT comments will be automatically declined.\n\n 	What gear 
 do you need to borrow on the day of?\n 	What previous experience do you ha
 ve with ascending &amp\; descending /abseiling? (eg. Abseiling with fig 8s
 \, ascending using prusiks/jumars\, passing rebelays and redirects etc)\n 
 	Have you had any experience with climbing / bouldering / scrambling aroun
 d rocks?\n 	Which is better for car camping: a Nissan Patrol or a Holden C
 olorado? Or something else?\n\n&nbsp\;
ATTACH;FMTTYPE=image/jpeg:https://unswoc.org/wordpress/wp-content/uploads/
 2025/08/PXL_20250628_042808762.NIGHT-1-scaled.jpg
CATEGORIES:Caving
LOCATION:https://maps.app.goo.gl/cc3hMJo6nqJ1rkhi7
END:VEVENT
BEGIN:VTIMEZONE
TZID:Australia/Sydney
X-LIC-LOCATION:Australia/Sydney
BEGIN:STANDARD
DTSTART:20250406T020000
TZOFFSETFROM:+1100
TZOFFSETTO:+1000
TZNAME:AEST
END:STANDARD
END:VTIMEZONE
END:VCALENDAR