BEGIN:VCALENDAR
VERSION:2.0
PRODID:-//wp-events-plugin.com//7.2.3.1//EN
TZID:Australia/Sydney
X-WR-TIMEZONE:Australia/Sydney
BEGIN:VEVENT
UID:3612@unswoc.org
DTSTART;TZID=Australia/Sydney;VALUE=DATE:20250726
DTEND;TZID=Australia/Sydney;VALUE=DATE:20250727
DTSTAMP:20250716T141643Z
URL:https://unswoc.org/wordpress/events/wj-palooza-saturday-dip-advanced/
SUMMARY:[WJ Palooza] SATURDAY - Dip (Advanced) - FULL
DESCRIPTION:Sign up for ONE Saturday and ONE Sunday trip. If you do not
  get accepted on your first choice trip then you may sign up for a differe
 nt one. (Same format as Boree Log!). You must be signed up to this main e
 vent to sign up to individual trips\nSignups Open at 8pm Monday 14th\n\n&n
 bsp\;\n\nAbseil/squeeze down a 20m pitch and enjoy Dip Cave! With 5 distin
 ct sections (called series) there is plenty to explore. The adventurers ca
 n try to find “Dismal Chamber”. Enjoy the pretty features in the “Ma
 in Chamber” before crawling through the “Rathole” to find the “Day
 light Chamber”. Here you can look up to see your 30 metre prusik back to
  the top!\n\nThis trip requires you to abseil in\, and prusik 30 metres to
  exit. There is a mandatory squeeze to exit the cave. You must be fit\, an
 d comfortable with heights to come on this trip. Rope skills are MANDATORY
 .\n\n FYI There are a large number of bats present in this cave! (and als
 o bat poo / guano). They are very small and cute - very unlikely to bite y
 ou!\nGear that can be borrowed on the day of\nPlease let us know in the co
 mments what gear you are missing from this list. Do NOT borrow these items
  from the gear cupboard - the club will bring this equipment directly to W
 ee Jasper (similar to Boree Log!).\n\nCaving Gear:\n\n 	Helmet\n\nVertical
  Gear:\n\n 	\n\n 	Harness (Canyon harness preferred).\n 	Hand Ascender (eg
  Jumar\, Petzl Basic\, or similar)\n 	Chest ascender (eg Croll or similar)
 \n 	Descender (Inline - Petzl Stop\, Raprak or similar)\n 	Chest Harness (
 Dedicated chest harness or 120cm sling)\n 	Dual Cows’ tail (safety tethe
 r with 2 ends)\n 	Foot loop (120cm sling\, or long accessory cord)\n\n\n\n
 \n 	4 Locking Carabiners\n 	2 Non locking carabiners (or locking carabiner
 s)\n\nBYO Gear for Caving\n\n 	\n\n 	Caving Clothes (overalls\, or OLD lon
 g pants and long sleeve shirt - The club will bring some overalls\, but th
 ese are not guaranteed to fit you!)\n 	Thermals to wear in cave under clot
 hes\n 	2x Headlights + spare batteries\n\n 	For those who have rechargeabl
 e headlights - I recommend bringing a powerbank. The cold can drain the ba
 tteries overnight\n\n\n 	Shoes that can get dirty and muddy (eg Sneakers\,
  Gumboots)\n 	Small bottle of water (this may become your pee bottle if yo
 u need to go)\n 	Small packed lunch - nothing messy that will end up all o
 ver the floor!\n 	Small backpack that can get dirty\n 	Snacks!\n 	Soft Kne
 epads and/or Elbowpads - OPTIONAL but nice to have\n 	Your best Bane or Ba
 tman impression\n\n\n\nLet us know the following in your booking comment!\
 nRequests WITHOUT comments will be automatically declined.\n\n 	What gear 
 do you need to borrow on the day of?\n 	If it rained on your jacket\, what
  would it smell like?\n 	What previous experience do you have with ascendi
 ng &amp\; descending /abseiling? (eg. Abseiling with fig 8s\, ascending us
 ing prusiks/jumars\, passing rebelays and redirects etc)\n 	Have you had a
 ny experience with climbing / bouldering / scrambling around rocks?\n\n&nb
 sp\;
ATTACH;FMTTYPE=image/jpeg:https://unswoc.org/wordpress/wp-content/uploads/
 2025/07/DIp-Cave-Zee.jpeg
CATEGORIES:Caving
LOCATION:https://maps.app.goo.gl/cc3hMJo6nqJ1rkhi7
END:VEVENT
BEGIN:VTIMEZONE
TZID:Australia/Sydney
X-LIC-LOCATION:Australia/Sydney
BEGIN:STANDARD
DTSTART:20250406T020000
TZOFFSETFROM:+1100
TZOFFSETTO:+1000
TZNAME:AEST
END:STANDARD
END:VTIMEZONE
END:VCALENDAR