BEGIN:VCALENDAR
VERSION:2.0
PRODID:-//wp-events-plugin.com//7.2.3.1//EN
TZID:Australia/Sydney
X-WR-TIMEZONE:Australia/Sydney
BEGIN:VEVENT
UID:2116@unswoc.org
DTSTART:20170317T210000Z
DTEND:20170318T090000Z
DTSTAMP:20170312T233233Z
URL:https://unswoc.org/wordpress/events/witness-the-fitness-bell-creek-can
 yon/
SUMMARY:Witness the fitness: BELL CREEK CANYON!
DESCRIPTION:Hola Bandolas!\n\nDamon and I will be running a grand 'ol trip 
 down Bell Creek Canyon - it is considered to be one of the finest canyons 
 in the Blue mountains. It is also quite a long canyon\, so while there are
 n't any abseils\, coming along will require some serious fitness. We'll ai
 m to start early\, at around 8am\, and we'll either car shuffle\, or walk 
 from camp\, depending on how many drivers are available. We'll get back la
 te\, but hopefully before dark.\n\nWhat you will need:\n1. A willing spiri
 t - you need to be happy with a few hours of trudging through the cold and
  wet (but spectacularly beautiful canyon)\n2. Food\, Water\, Chocolate\, S
 ugar supplies. Keep your spirits high!\n3. Sunscreen. We'll be in the cany
 on most of the time but still - skin cancers sucks donkeys testicles\n4. A
  pack to carry your gear in.\n5. A wetsuit - there is potential to borrow 
 one\, but I strongly recommend sorting one out for yourself\, as there are
  always limited numbers.\n6. A dry bag. Go to Anaconda and pick one up if 
 you don't have one. They are super useful.\n\nThere is also the option of 
 taking a lilo - my personal view is that swimming is just as fast\, and yo
 u don't have to faff about with portage.\n\nDon't sign up if you\na) Aren'
 t part of the boree log trip\nb) Aren't happy with the idea of a hard long
  but awesome day out\nc) Don't like the prospect of someone singing sea sh
 anties most of the way along.\n\nCheerio\,\n\nSam.\n\n&nbsp\;
CATEGORIES:Canyoning
END:VEVENT
END:VCALENDAR