BEGIN:VCALENDAR
VERSION:2.0
PRODID:-//wp-events-plugin.com//7.2.3.1//EN
TZID:Australia/Sydney
X-WR-TIMEZONE:Australia/Sydney
BEGIN:VEVENT
UID:489@unswoc.org
DTSTART:20140620T203000Z
DTEND:20140621T060000Z
DTSTAMP:20140615T215213Z
URL:https://unswoc.org/wordpress/events/winter-solstice-canyoning-saturday
 /
SUMMARY:Winter Solstice Canyoning - Saturday
DESCRIPTION:It's the shortest day of the year\, so lets celebrate with a ca
 nyon! Starlight on Saturday\, then Nightmare on Sunday. Beginners welcome 
 as long as you've got a good level of fitness :)\n\nFor transport we'll cr
 eate a facebook conversation. For camping Friday and Saturday nights you'l
 l need tent space\, sleeping matt and a sleep bag - it'll be cold!\n\nFor 
 the canyon you'll need the following gear\, if you don't have it then you'
 ll need to beg\, buy or borrow from the club:\n\n- Harness and helmet\n\n-
  Carabiner and descent device (e.g. ATC or figure 8)\n\n- Backpack\n\n- Th
 ermals and beanie\n\n- Rain jacket\n\n- Non-cotton clothes\n\n- water bott
 le\n\n- lunch and snacks\n\n- Grippy shoes that can get wet (dunlop volley
 s are a favourite)\n\nAny questions email or call! peddey@gmail.com 0411 4
 67 041
CATEGORIES:Canyoning
LOCATION:Starlight Canyon\, Capertree Campground\, Newnes\, Australia
X-APPLE-STRUCTURED-LOCATION;VALUE=URI;X-ADDRESS=Capertree Campground\, Newn
 es\, Australia;X-APPLE-RADIUS=100;X-TITLE=Starlight Canyon:geo:0,0
END:VEVENT
END:VCALENDAR