BEGIN:VCALENDAR
VERSION:2.0
PRODID:-//wp-events-plugin.com//7.2.3.1//EN
TZID:Australia/Sydney
X-WR-TIMEZONE:Australia/Sydney
BEGIN:VEVENT
UID:2042@unswoc.org
DTSTART:20160805T203000Z
DTEND:20160805T203000Z
DTSTAMP:20160803T164420Z
URL:https://unswoc.org/wordpress/events/winter-canyoning-tiger-snake/
SUMMARY:Winter canyoning - Tiger Snake
DESCRIPTION:Hey :)\n\nAnyone missing canyoning yet?\n\nLuke and I are leadi
 ng a mostly dry (wet up to knees or thighs) canyon on sat (6 Aug). Beginne
 r friendly :)\n\nLeaving uni at 7:30am\n\nCheck out the track notes here:\
 n\nhttp://ozultimate.com/canyoning/track_notes/tiger_snake.htm\n\nPlease P
 M me to let me know your canyoning experience\, the gear you have and if y
 ou have a car! :)\n\nThings to bring:\n\n	Harness\n	Belay device\n	Safety 
 sling\n	Prussik\n	locking biner (at least 2\, preferably 3)\n	Helmet\n	Hea
 dtorch (let me know if you don't have this!)\n	Thermals (to wear\, plus a 
 set of EXTRA thermals in a dry bag)\n	Woollen socks and closed shoes (snea
 kers or volleys)\n	Lunch and water\n	Rain jacket or windbreaker\n
CATEGORIES:Canyoning
END:VEVENT
END:VCALENDAR