BEGIN:VCALENDAR
VERSION:2.0
PRODID:-//wp-events-plugin.com//7.2.3.1//EN
TZID:Australia/Sydney
X-WR-TIMEZONE:Australia/Sydney
BEGIN:VEVENT
UID:2418@unswoc.org
DTSTART;VALUE=DATE:20190615
DTEND;VALUE=DATE:20190616
DTSTAMP:20190611T093224Z
URL:https://unswoc.org/wordpress/events/winter-canyoning-deep-pass/
SUMMARY:Winter canyoning - Deep Pass
DESCRIPTION:\n\nIt's winter which means time for some awesome canyons! Dion
  and I (Matt) are looking at doing Deep Pass (and the dry canyon if there'
 s time). You will get wet feet but hopefully not wet anything else.\n\nSo 
 if you’re keen\, please MESSAGE ME (Facebook preferred) with your releva
 nt outdoors experience and potential car details!\n\nPacking list:\n\nHead
  torch (must have)\nShoes to get wet (I’d advise volleys\, old runners\,
  or like $10 sneakers from Kmart)\nDrybag (if you want)\n\nA warm sweater 
 or something to wear in case you get cold\nCash for petrol\nWool socks\nDa
 y pack\nLunch\nSnacks\nSunscreen\n2L Water bottle/s
CATEGORIES:Canyoning
END:VEVENT
END:VCALENDAR