BEGIN:VCALENDAR
VERSION:2.0
PRODID:-//wp-events-plugin.com//7.2.3.1//EN
TZID:Australia/Sydney
X-WR-TIMEZONE:Australia/Sydney
BEGIN:VEVENT
UID:2757@unswoc.org
DTSTART;TZID=Australia/Sydney:20201121T090000
DTEND;TZID=Australia/Sydney:20201121T180000
DTSTAMP:20201028T010343Z
URL:https://unswoc.org/wordpress/events/willoughby-6h-rogaine/
SUMMARY:Willoughby 6h Rogaine
DESCRIPTION:https://nswrogaining.org/2020-metrogaine/\n\nThe final rogaine 
 of 2020 is here and is nice and local!\nOur final rogaine for 2020 will be
  a cracker of an event\, with a strange history. This event was originally
  set as this year’s Metrogaine to be run in March. It is now being run o
 n the date set for the socialgaine and is replacing our annual Paddy Palli
 n sponsored 6hr event. Who really cares though\, it’s the last rogaine i
 n the year\, it is in the middle of Sydney and takes in some surprising co
 untry. In contrast to some events which have their hash house on some unna
 med area of dirt in the bush\, this event's hash house will be “Club Wil
 loughby”.\n\n\nUNSWOC will be putting together some teams so please sign
  up before Nov 1 so we have time to organise and enter. There is a cost as
 sociated (likely $30-$45)\, I will confirm that closer to the time. Nav tr
 aining may be available subject to trip leader availability so if your kee
 n let is know in the comment and we will keep you posted.\n\nMandatory Gea
 r:\nA small compulsory First Aid kit is required to be carried by each com
 petitor on all rogaines. It consists of:\n\n 	compression bandage for snak
 e bites and\n 	plastic foil emergency blanket.\n\n\nThis is an event that 
 is beginner friendly with a novice category. Check out the link at the top
  for more information (including gear required etc).\n\nI will update this
  page with more info as it becomes available.\n\n&nbsp\;\n\n&nbsp\;\n\nFor
  the comment: What experience do you have? Are you a rookie? (if so) Do yo
 u want to be on a team of all rookies to qualify for that category or do y
 ou wish to be on a team with some more experienced folk? How competitive a
 re you?
ATTACH;FMTTYPE=image/jpeg:https://unswoc.org/wordpress/wp-content/uploads/
 2020/10/unnamed.jpg
CATEGORIES:Rogaining
END:VEVENT
BEGIN:VTIMEZONE
TZID:Australia/Sydney
X-LIC-LOCATION:Australia/Sydney
BEGIN:DAYLIGHT
DTSTART:20201004T030000
TZOFFSETFROM:+1000
TZOFFSETTO:+1100
TZNAME:AEDT
END:DAYLIGHT
END:VTIMEZONE
END:VCALENDAR