BEGIN:VCALENDAR
VERSION:2.0
PRODID:-//wp-events-plugin.com//7.2.3.1//EN
TZID:Australia/Sydney
X-WR-TIMEZONE:Australia/Sydney
BEGIN:VEVENT
UID:3106@unswoc.org
DTSTART;TZID=Australia/Sydney:20221201T083000
DTEND;TZID=Australia/Sydney:20221204T170000
DTSTAMP:20221013T021725Z
URL:https://unswoc.org/wordpress/events/wilderness-area-first-aid-wafa-cou
 rse/
SUMMARY:Wilderness Area First Aid WAFA Course
DESCRIPTION:&nbsp\;\n\nWilderness Area First Aid Course\n\nWhen Wilderness 
 First Aid Australia (Wilderness First Aid Aust. an RTO)  will be teaching
  the course 1st - 4th December 2022 for UNSWOC members. A night scenario w
 ill take place on Saturday the 3rd December. It will be an intense 4 days 
 but rewarding.\n\nWhere: TBC in greater Sydney or lower blue Mountains at 
 a scout hall or similar.\n\nCost: For trip leaders (and future trip leader
 s) this will be subsidized (a maximum of $400\, $80 per trip lead up to 5.
  Non trip leaders will not received a subsidized place  ($640). If you ar
 e experiencing financial  difficulty\, or the cost would be a barrier to 
 participating please indicate below in comment as the club is happy to off
 er greater/ full subsidized place (please indicate below)\n\n
CATEGORIES:Training
END:VEVENT
BEGIN:VTIMEZONE
TZID:Australia/Sydney
X-LIC-LOCATION:Australia/Sydney
BEGIN:DAYLIGHT
DTSTART:20221002T030000
TZOFFSETFROM:+1000
TZOFFSETTO:+1100
TZNAME:AEDT
END:DAYLIGHT
END:VTIMEZONE
END:VCALENDAR