BEGIN:VCALENDAR
VERSION:2.0
PRODID:-//wp-events-plugin.com//7.2.3.1//EN
TZID:Australia/Sydney
X-WR-TIMEZONE:Australia/Sydney
BEGIN:VEVENT
UID:3121@unswoc.org
DTSTART;TZID=Australia/Sydney:20230206T083000
DTEND;TZID=Australia/Sydney:20230209T013000
DTSTAMP:20230208T082218Z
URL:https://unswoc.org/wordpress/events/wilderness-area-first-aid-february
 -6th-9th-2023/
SUMMARY:Wilderness Area First Aid | February 6th - 9th 2023.
DESCRIPTION:Wilderness Area First Aid Course\n\n&nbsp\;\n\nWhen Wilderness 
 First Aid Australia (Wilderness First Aid Aust. an RTO)  will be teaching
  the course Monday 6th - Thursday 9th   February 2023 for UNSWOC members
 . A night scenario will take place during the course.It will be an intense
  4 days but rewarding and equip you with a nationally recognized qualifica
 tion for your back country adventures.\n\nWhere: Outdoor Education Facilit
 y in Kangaroo Valley (2hrs south of Sydney)\n\nWhat kind of accommodation?
 : Private house/dormitory style shared kitchen\, BBQ facilities and toilet
 s. If you wish to take a room and bed over camping please email Brendan.\n
 \nWhat to bring: Outdoors clothes\, a set of clothes to get dirty (i.e fak
 e blood)\, camping equipment all meals and food to be self catered.\n\nTra
 nsport: Bus leaving from UNSW\, else to be car-pooled by private vehicle.\
 n\nCost: For trip leaders (and future trip leaders) this will be subsidize
 d (TL will pay a maximum deposit of of $250 for Accommodation (camping) &a
 mp\; Training Hire assuming you lead 5 trips in the coming year. This may 
 be reduced depending on funding). Non trip leaders will not received a sub
 sidized place (Please contact Brendan for price) However\, TLIT will or th
 ose keenly interested in participating in trip leading training 2023 and b
 e reimbursed after 5 trips lead).\n\nIf you are experiencing financial  d
 ifficulty\, please let Brendan know and arrangement can be made.\n\nFundin
 g thank you: This activity is proudly funded by Arc @ UNSW's Arc Developme
 nt Grant program for 2022. Thank you to Arc and UNSW for their generous su
 pport. This specalist training costs over $11k so thank you to Arc for fun
 ding a Significant portion. UNSWOC will fund the training for active trip 
 leaders as a thank you for their hard work.\n\n
CATEGORIES:Training
END:VEVENT
BEGIN:VTIMEZONE
TZID:Australia/Sydney
X-LIC-LOCATION:Australia/Sydney
BEGIN:DAYLIGHT
DTSTART:20221002T030000
TZOFFSETFROM:+1000
TZOFFSETTO:+1100
TZNAME:AEDT
END:DAYLIGHT
END:VTIMEZONE
END:VCALENDAR