BEGIN:VCALENDAR
VERSION:2.0
PRODID:-//wp-events-plugin.com//7.2.3.1//EN
TZID:Australia/Sydney
X-WR-TIMEZONE:Australia/Sydney
BEGIN:VEVENT
UID:2927@unswoc.org
DTSTART;TZID=Australia/Sydney;VALUE=DATE:20210912
DTEND;TZID=Australia/Sydney;VALUE=DATE:20210920
DTSTAMP:20210912T055820Z
URL:https://unswoc.org/wordpress/events/wikipedia-game/
SUMMARY:Wikipedia Game
DESCRIPTION:link in the form - https://forms.gle/HZ933JV4aDwooLSX6\nThe sco
 ring in the game is wacky and lets you accumulate points by trying again\,
  so we have created our own scoring system! Each day this week (7 days\, 1
 pm-&gt\;1pm) there is a new challenge you may attempt as many times as you
  like but please don't cheat\, do your best without external tools (I thin
 k that includes no ctrl+f but that's up to your own personal integrity). S
 ubmit your best time\, number of steps and a screenshot of your path each 
 day to the form linked below. Winner each day will be fewest number of ste
 ps then fastest time and the screenshot is to prove it was legit (honour s
 ystem on the no cheating). Good Luck! I will try post updates to Facebook 
 each day too keep up the stoke.
END:VEVENT
BEGIN:VTIMEZONE
TZID:Australia/Sydney
X-LIC-LOCATION:Australia/Sydney
BEGIN:STANDARD
DTSTART:20210404T020000
TZOFFSETFROM:+1100
TZOFFSETTO:+1000
TZNAME:AEST
END:STANDARD
END:VTIMEZONE
END:VCALENDAR