BEGIN:VCALENDAR
VERSION:2.0
PRODID:-//wp-events-plugin.com//7.2.3.1//EN
TZID:Australia/Sydney
X-WR-TIMEZONE:Australia/Sydney
BEGIN:VEVENT
UID:2930@unswoc.org
DTSTART;TZID=Australia/Sydney;VALUE=DATE:20211018
DTEND;TZID=Australia/Sydney;VALUE=DATE:20211019
DTSTAMP:20211017T230709Z
URL:https://unswoc.org/wordpress/events/whungee-wheengee/
SUMMARY:Whungee wheengee
DESCRIPTION:Myself and Nadav are running a trip to whungee wheengee\n\n&nbs
 p\;\n\nHere's the Gear List.\nWhat to bring:\n\nHarness\nHelmet\nDescender
  of Choice\n3 locking biners\nSafety sling\nWetsuit\nEmergency blanket (CO
 MPULSORY!!!)\nSunscreen\nLunch\nSnacks\n2L of water minimum\nDry clothes\n
 Thermals\nDrybag\nBackpack (25-40L)\nEnclosed shoes for canyoning\nDry sho
 es (For the car)\nDry clothes (for the car)\nHeadtorch + spare batteries\n
 Medications if you need them!\n\nGroup gear:\nFirst aid kit\nRope\nPlb\n
END:VEVENT
BEGIN:VTIMEZONE
TZID:Australia/Sydney
X-LIC-LOCATION:Australia/Sydney
BEGIN:DAYLIGHT
DTSTART:20211003T030000
TZOFFSETFROM:+1000
TZOFFSETTO:+1100
TZNAME:AEDT
END:DAYLIGHT
END:VTIMEZONE
END:VCALENDAR