BEGIN:VCALENDAR
VERSION:2.0
PRODID:-//wp-events-plugin.com//7.2.3.1//EN
TZID:Australia/Sydney
X-WR-TIMEZONE:Australia/Sydney
BEGIN:VEVENT
UID:2125@unswoc.org
DTSTART;VALUE=DATE:20170319
DTEND;VALUE=DATE:20170320
DTSTAMP:20170314T063248Z
URL:https://unswoc.org/wordpress/events/whungee-wheengee-canyon/
SUMMARY:Whungee Wheengee Canyon
DESCRIPTION:So for those of us who recover quickly after a night of partyin
 g\, we shall be embarking on an exciting day through Whungee Wheengee. Th
 is canyon is technically an intermediate-advanced canyon\, but there is 1 
 spot open to a fit beginner who is willing to learn some new skills and 2 
 spots to intermediate or advanced canyoners.\n\nComment your skill level a
 nd favorite type of chocolate when you request to join this trip otherwise
 \, if you don't - being honest here - you will probably be declined.\n\nTh
 is canyon is SPECTACULAR\, and has some exiting duck-unders. Just as a gui
 deline this is what you should bring\, things with a * can be borrowed fro
 m the club:\n\n	Harness*\n	ATC*\, figure 8 or rap rack*\n	Safety* and lock
 ing biner*\n	Dry bags\n	Wetsuit*\n	Thermals\n	Lunch\n	Water\n	enclosed sho
 es e.g. volleys\, runners etc\n	Daybag preferably with hip/sternum strap\n
 	Helmet*\n	Headtorch\n	First aid kit (including a space blanket)\n\nYou mu
 st be attending Boree log to attend this trip! And not to worry if you don
 't have a car\, we have enough cars for this trip :)
CATEGORIES:Boree Log,Canyoning
END:VEVENT
END:VCALENDAR