BEGIN:VCALENDAR
VERSION:2.0
PRODID:-//wp-events-plugin.com//7.2.3.1//EN
TZID:Australia/Sydney
X-WR-TIMEZONE:Australia/Sydney
BEGIN:VEVENT
UID:2235@unswoc.org
DTSTART:20180316T190000Z
DTEND:20180317T070000Z
DTSTAMP:20180310T103058Z
URL:https://unswoc.org/wordpress/events/whungee-wheengee-canyon-intermedia
 te-boree-log-saturday-2/
SUMMARY:Whungee Wheengee Canyon Team2 - Intermediate - Boree Log Saturday
DESCRIPTION:Hi team!\n\nBrendan and I will be running a second group down t
 he incredible Whungee Wheengee canyon on Boree Log Saturday. It's a brill
 iant mixed bag of abseiling\, swims\, some tricky little climb downs and a
  few... Cozy squeezes.\n\nSee trip notes here: http://ozultimate.com/cany
 oning/track_notes/whungee_wheengee.htm\n\nIt's a big day (8-9hrs)\, with d
 ecent walks either side of the canyon - so general fitness is a big help. 
 Note that this is an intermediate trip\, so YOU MUST HAVE DONE A FEW ABSE
 ILING CANYONS BEFOREHAND.\n\nWhen you sign up\, please leave a comment bel
 ow - or shoot Brendan O'Rourke/Sid Tinney a message on facebook with prev
 ious canyoning experience.\n\n&nbsp\;\n\nImage by quality bloke and gifted
  lensman Ben Sanford Media\n\n&nbsp\;\n\nYou'll need:\n\n 	Wetsuit*\n 	He
 adlamp\n 	Shorts to go on top of the wetsuit (these protect the wetsuit fr
 om being damaged)\n 	Sunscreen\n 	Harness*\n 	Belay device +locking biner*
 \n 	Safety sling + locking biner*\n 	Water (at least 2-3L)\n 	Snacks (for 
 trip leaders 😉)\n 	Lunch\n 	Closed shoes (that can get wet)\n 	Wool soc
 ks (especially if you get cold)\n 	Thermals to wear under your wetsuit (th
 is is a cold canyon!)\n 	Dry bag (to keep your things dry)\n\n*Can be hire
 d on the day from the club for free. Best to try and bring your own if you
  have them though!\n\n&nbsp\;\n\nLooking forward to a brilliant day. Again
 \, please shoot us a message if you are interested/wanting to join. You wo
 n’t get a spot unless you message with experience first.\n\nFinally\, yo
 u must be attending the main Boree Log event to attend this trip!
CATEGORIES:Boree Log,Canyoning
END:VEVENT
END:VCALENDAR