BEGIN:VCALENDAR
VERSION:2.0
PRODID:-//wp-events-plugin.com//7.2.3.1//EN
TZID:Australia/Sydney
X-WR-TIMEZONE:Australia/Sydney
BEGIN:VEVENT
UID:3705@unswoc.org
DTSTART;TZID=Australia/Sydney;VALUE=DATE:20251123
DTEND;TZID=Australia/Sydney;VALUE=DATE:20251124
DTSTAMP:20251111T230719Z
URL:https://unswoc.org/wordpress/events/whungee-wheengee-canyon-beginner-i
 ntermediate/
SUMMARY:Whungee Wheengee Canyon - Beginner/Intermediate
DESCRIPTION:Lachie and I are headed down Whungee Wheengee and we're looking
  for some patients participants who we can practice our fancy new first ai
 d on.\n\nJokes aside\, this is a longer canyon (8+ hrs) so expect to be in
  the canyon for a while. We will attempt to make good time\, so some exper
 ience with ropes and heights is preferred. There is a big walk in and out 
 of the canyon (551m of elevation) so physical fitness is a must have. It i
 s also a wet canyon so swimming experience is also a must have\, depending
  on water levels there may also be some duck unders. The canyon will be sl
 ippery so experience scrambling is required. To make sure you read at leas
 t some of the description please answer in your comment: What is the best 
 sweet treat to take down a canyon?\n\nWe will meet at the cathedral reserv
 e campground (where Boree was) at 8:30am\, I would recommend driving up on
  Saturday and camping there so you can have a bit more of a sleep in. We w
 ill carpool\, but people with cars may be given preference.\nWhat to bring
 :\n\n 	Eight style descender *\n 	Helmet *\n 	Canyoning Harness *\n 	5mm W
 etsuit *\n 	3x Locking Carabiners *\n 	Safety (a 120cm sling works) *\n 	D
 rybag or keg *\n 	Canyon pack *\n 	Headtorch\n 	Emergency blanket (can be 
 bought from gear cupboard)\n 	Swimmers (for under your wetsuit)\n 	Wool or
  wetsuit socks\n 	Thermals\n 	Raincoat\n 	Old shoes with good grip\n 	2L o
 f water\n 	Lunch\n 	Snacks\n 	Hiking clothes (will get wet on the walk out
 )\n 	Dry clothes and a towel (for the car)\n 	Medications you require (e.g
  asthma puffer\, epipen)\n\nGear with a * can be borrowed from the gear cu
 pboard. If you are unable to get any of the stuff required let lachlan or 
 myself know and we can make arrangements. Nothing you wear in the canyon c
 an be cotton\, this includes socks and underwear.\nIn your comment please 
 let us know:\n\n 	Your fitness\n 	Your swimming ability\n 	Your canyoning/
  outdoor experience\n\nPlease message Lachlan or Myself on facebook with a
 ny questions.
ATTACH;FMTTYPE=image/jpeg:https://unswoc.org/wordpress/wp-content/uploads/
 2025/11/DB9E6BC3-8B60-48C3-BE98-BC54A71E289D-scaled-e1762846932631.png
CATEGORIES:Canyoning
LOCATION:https://maps.app.goo.gl/VHbr8EiFv45JKY7f9
END:VEVENT
BEGIN:VTIMEZONE
TZID:Australia/Sydney
X-LIC-LOCATION:Australia/Sydney
BEGIN:DAYLIGHT
DTSTART:20251005T030000
TZOFFSETFROM:+1000
TZOFFSETTO:+1100
TZNAME:AEDT
END:DAYLIGHT
END:VTIMEZONE
END:VCALENDAR