BEGIN:VCALENDAR
VERSION:2.0
PRODID:-//wp-events-plugin.com//7.2.3.1//EN
TZID:Australia/Sydney
X-WR-TIMEZONE:Australia/Sydney
BEGIN:VEVENT
UID:2172@unswoc.org
DTSTART:20170924T130000Z
DTEND:20171001T130000Z
DTSTAMP:20170912T014617Z
URL:https://unswoc.org/wordpress/events/whitewater-winter-safari/
SUMMARY:Whitewater Winter Safari
DESCRIPTION:\n\nPaddlers get ready for the event of the year\, the Winter S
 afari is on again!\n\nWe will be heading down to the snowy for some wonder
 ful whitewater. Get ready to freeze in the thundering rapids of snow melt 
 to train yourself up to represent UNSWOC at the Snowy River Extreme Race a
 t the end of the week. More details on the race here:\n\nhttp://www.snowyr
 iverextremerace.com.au/\n\nThe plan is to arrive on Monday 25th of Septemb
 er and run as many rivers as we can\, paddling will finish up the followin
 g Monday. The paddling will consist predominantly of grade III to grade IV
  whitewater. You can find more info on the rivers here:\n\nhttp://www.wate
 rwaysguide.org.au/map\n\nGear\nThe club can provide the following:\n- Boat
 s\n- Paddles\n- PFDs\n- Decks\n- Helmets\n- Wetsuits\n- Tents\n- Sleeping 
 bags\n- Mats\n- Stoves\n- Pots\n\nIt is expected that you are a self suffi
 cient paddler and can provide all other needed equipment yourself. Dry top
 s/suits are compulsory.\nTHIS TRIP IS NOT OPEN TO BEGINNERS\nPlease commen
 t your paddling experience when you sign up. We will only accept paddlers 
 with sufficient whitewater experience who are self sufficient at looking a
 fter themselves and are competent at rolling and rescue techniques.\n\n&nb
 sp\;
ATTACH;FMTTYPE=image/jpeg:https://unswoc.org/wordpress/wp-content/uploads/
 2017/09/Background2.jpg
CATEGORIES:Whitewater Kayaking
END:VEVENT
END:VCALENDAR