BEGIN:VCALENDAR
VERSION:2.0
PRODID:-//wp-events-plugin.com//7.2.3.1//EN
TZID:Australia/Sydney
X-WR-TIMEZONE:Australia/Sydney
BEGIN:VEVENT
UID:2353@unswoc.org
DTSTART;VALUE=DATE:20190210
DTEND;VALUE=DATE:20190211
DTSTAMP:20190206T034504Z
URL:https://unswoc.org/wordpress/events/whitewater-skills-penrith/
SUMMARY:Whitewater skills at Penrith
DESCRIPTION:Hi there\,\n\nWe'll be heading to Penrith to practice some whit
 ewater skills\, specifically boofing\, ferry gliding\, surfing and eddying
  out. Sign up before 6pm Friday night so we have time to collect gear. I r
 eccomended being able to roll before signing up to this trip\, otherwise i
 t is likely that you will be quite miserable and not enjoy yourself.\n\nFo
 r those who are not familiar Penrith is a manmade standard class III run. 
 The water starts at 10:30am and is running for 5 hours. We will be arrivin
 g at 10am for some roll practice but feel free to come later if that suits
 . Add in the comments what club gear you need to borrow and we'll pack it 
 for you.\n\nWhat to bring:\n\n- paddling clothes.\n\n- dry clothes\n\n- to
 wel\n\n- sunscreen\n\n- food\n\n- water\n\n- paddling shoes\n\n- $20 cash 
 for entry deposit.\n\n- any of your own paddling gear.\n\n&nbsp\;\n\n&nbsp
 \;
CATEGORIES:Whitewater Kayaking
END:VEVENT
END:VCALENDAR