BEGIN:VCALENDAR
VERSION:2.0
PRODID:-//wp-events-plugin.com//7.2.3.1//EN
TZID:Australia/Sydney
X-WR-TIMEZONE:Australia/Sydney
BEGIN:VEVENT
UID:2241@unswoc.org
DTSTART:20180401T130000Z
DTEND:20180405T130000Z
DTSTAMP:20180331T112453Z
URL:https://unswoc.org/wordpress/events/whitewater-safari/
SUMMARY:Whitewater Safari
DESCRIPTION:Hey there!\n\nIn true Aussie paddler fashion\, this trip has be
 en posted last minute so it's a drop everything and go kind of deal. There
  is water up north and Aidan and I are going for a paddle! Now just to mak
 e things clear\, this is a KAYAKING trip and not rafting.\n\nThere will be
  2 spots open to people with WHITEWATER EXPERIENCE\, and 1 spot to a begin
 ner who is ABLE TO ROLL and willing to push their limits. If you are the b
 eginner\, please take in note that you will not be able to paddle everythi
 ng and may be sitting around a little\, so bring stuff to entertain yourse
 lf. You will be able to paddle the Barrington and seeing how you go\, a fe
 w things at the Nymboida. This is just to keep you safe!\n\nPlease comment
  your experience level\, tell us about your mad rolling skillz\, if you ha
 ve a car and tell us your favorite river otherwise we will reject your boo
 king request!\n\nZee Plan:\n\n- Leave Sydenham Station by 4pm Sunday after
 noon and drive up to Barrington Tops (5ish hour drive)\n\n- Camp at Barrin
 gton\n\n- Paddle some nice class 2 and continue driving up to the Nymboida
  (5.5ish hours).\n\n- Camp at Platypus flat and paddle some rad class 3-4 
 for the following few days.\n\n- Drive back late in the evening on Friday 
 night and arrive in Sydney early hours of the morning.\n\nGear:\n- Bring y
 our own camping\, cooking gear and food\n- Tell us what you need\, the clu
 b has all kayaking gear except for booties\, thermals\, towels and drytops
 .\n\nHope to see you beaters there!\n\n&nbsp\;
CATEGORIES:Whitewater Kayaking
END:VEVENT
END:VCALENDAR