BEGIN:VCALENDAR
VERSION:2.0
PRODID:-//wp-events-plugin.com//7.2.3.1//EN
TZID:Australia/Sydney
X-WR-TIMEZONE:Australia/Sydney
BEGIN:VEVENT
UID:2214@unswoc.org
DTSTART:20180302T220000Z
DTEND:20180303T043000Z
DTSTAMP:20180301T234330Z
URL:https://unswoc.org/wordpress/events/whitewater-penrith/
SUMMARY:Whitewater at Penrith
DESCRIPTION:Hey there! Due to the lack of rain this summer we are heading t
 o Penrith for some whitewater. Join us to try your roll in  some whitewat
 er\, get worked in holes\, practice that bomber boof\, or simply race us d
 own the course. The course is a man-made class III course.\n\nThis trip is
  only open to people who have whitewater kayaking experience or who have b
 een to a pool session. Don't worry kiddos\, i'll be running some more pool
  sessions during semester!\n\nWhat you need:\n- Helmet *\n- Paddle *\n- Bo
 at *\n- PFD *\n- Spray skirt *\n- paddling clothes/swimmers\n- booties\n- 
 nose plug **\n- lunch/snacks\n- Sunscreen\n- Towel\n- Fuel money\n- Bib de
 posit\n\n*= club can provide\n**=optional\n\n&nbsp\;
CATEGORIES:Whitewater Kayaking
END:VEVENT
END:VCALENDAR