BEGIN:VCALENDAR
VERSION:2.0
PRODID:-//wp-events-plugin.com//7.2.3.1//EN
TZID:Australia/Sydney
X-WR-TIMEZONE:Australia/Sydney
BEGIN:VEVENT
UID:2891@unswoc.org
DTSTART;TZID=Australia/Sydney;VALUE=DATE:20210410
DTEND;TZID=Australia/Sydney;VALUE=DATE:20210412
DTSTAMP:20210401T233215Z
URL:https://unswoc.org/wordpress/events/whitewater-on-the-barrington/
SUMMARY:Whitewater on the Barrington
DESCRIPTION:Hi there!\n\nDepending on water levels\, Aidan will be running 
 a beginner friendly whitewater kayaking trip up to the Barrington river to
  give a few lucky people a taste of whitewater and an opportunity to progr
 ess from the pool sessions. The Barrington has some lovely class I\, II an
 d III sections providing a bit of fun for everyone. It is the perfect oppo
 rtunity to start to learn how to ferry glide\, eddy in and out and learn t
 o use those edges! Our USYD counterparts (SUCC) will also be running a beg
 inner friendly trip up there that weekend\, so it will be a good opportuni
 ty to meet a bunch of other whitewater kayakers too!\n\nBecause whitewater
  can be dangerous\, more supervision is required than for other trips\, as
  a result Aidan will only be able to take 3 people. You will only be accep
 ted if you have been to a pool session. Please let us know if you have a c
 ar with roof racks or are happy to use soft racks on your car. Please comm
 ent how many pool sessions that you have been to\, the state of your roll\
 , and any flatwater or whitewater experience you may have.\n\nWe will be c
 amping at the Barrington\, so you will need to either be self sufficient w
 ith camping stuff or rent out gear from the gear cupboard before the trip.
 \n\n*You will need to be a competent swimmer to attend this trip*
ATTACH;FMTTYPE=image/jpeg:https://unswoc.org/wordpress/wp-content/uploads/
 2021/04/Barrington.jpg
CATEGORIES:Kayaking,Whitewater Kayaking
END:VEVENT
BEGIN:VTIMEZONE
TZID:Australia/Sydney
X-LIC-LOCATION:Australia/Sydney
BEGIN:STANDARD
DTSTART:20210404T020000
TZOFFSETFROM:+1100
TZOFFSETTO:+1000
TZNAME:AEST
END:STANDARD
END:VTIMEZONE
END:VCALENDAR