BEGIN:VCALENDAR
VERSION:2.0
PRODID:-//wp-events-plugin.com//7.2.3.1//EN
TZID:Australia/Sydney
X-WR-TIMEZONE:Australia/Sydney
BEGIN:VEVENT
UID:2593@unswoc.org
DTSTART;TZID=Australia/Sydney;VALUE=DATE:20191212
DTEND;TZID=Australia/Sydney;VALUE=DATE:20191223
DTSTAMP:20191208T051858Z
URL:https://unswoc.org/wordpress/events/whitewater-kayaking-trip-to-murchi
 son-new-zealand-beanie-grant-2019/
SUMMARY:Whitewater Kayaking trip to Murchison New Zealand - Beanie Grant 20
 19
DESCRIPTION:\n\nI am traveling to the small town of Murchison\, New Zealand
  to go whitewater kayaking. Part of my trip includes a four-day course wit
 h the New Zealand Kayak School in order to improve my kayaking and learn n
 ew skills\, which I will be able to bring back and teach to aspiring club 
 kayakers.\n\n&nbsp\;\n\nI'm flying to Christchurch on the 12th of December
  and staying one night before catching two buses to Murchison. The Kayakin
 g Course runs from the evening of the 13th through to the evening of the 1
 7th.\n\nThe course covers:\n\n 	kayaking skills\n 	river scouting techniqu
 es\n 	setting river safety\n 	rescue techniques\n\n&nbsp\;\n\nThe course w
 ill provide me with an opportunity to learn a large number of new skills a
 nd will introduce me to the local rivers. Following the course\, I will st
 ay three extra days to go paddling with local kayakers and put my new skil
 ls to a test.\n\nIn preparation for this trip\, I have been training for 6
  months to build up sufficient strength\, endurance and skill in the kayak
  to maximize my time on the water. I am now at a stage in my kayaking prog
 ression where I will benefit greatly from this trip\, and upon my return\,
  I will begin teaching other club kayakers the lessons I learned.\n\n&nbsp
 \;\n\n&nbsp\;
CATEGORIES:Training,Whitewater Kayaking
END:VEVENT
BEGIN:VTIMEZONE
TZID:Australia/Sydney
X-LIC-LOCATION:Australia/Sydney
BEGIN:DAYLIGHT
DTSTART:20191006T030000
TZOFFSETFROM:+1000
TZOFFSETTO:+1100
TZNAME:AEDT
END:DAYLIGHT
END:VTIMEZONE
END:VCALENDAR