BEGIN:VCALENDAR
VERSION:2.0
PRODID:-//wp-events-plugin.com//7.2.3.1//EN
TZID:Australia/Sydney
X-WR-TIMEZONE:Australia/Sydney
BEGIN:VEVENT
UID:2623@unswoc.org
DTSTART;TZID=Australia/Sydney:20200307T000000
DTEND;TZID=Australia/Sydney:20200307T000000
DTSTAMP:20200306T110206Z
URL:https://unswoc.org/wordpress/events/whitewater-kayaking-shoalhaven-riv
 er/
SUMMARY:Whitewater Kayaking - Shoalhaven River
DESCRIPTION:Ahoy!\n\nWe are going to paddle the Shoalhaven River - Powerlin
 es section. The water level is estimated to be high (2ish metres) which wi
 ll be loads of fun! It will likely be a class IV day (due to the high leve
 ls) deeming it not suitable for beginner/intermediate paddlers. You must b
 e self sufficient to attend. We plan to do 2 laps of the river\, so bring 
 lunch and warm clothes for the shuttle. We can pack the necessary club gea
 r\, so just bring your usual paddling stuff. We will meet at the put in (n
 ear Oallen ford) at 8:30 am and plan to set up a shuttle to the Moss insti
 tute before starting the river.\n\nContact me for further details!\n\nSee 
 you there :)
CATEGORIES:Whitewater Kayaking
END:VEVENT
BEGIN:VTIMEZONE
TZID:Australia/Sydney
X-LIC-LOCATION:Australia/Sydney
BEGIN:DAYLIGHT
DTSTART:20191006T030000
TZOFFSETFROM:+1000
TZOFFSETTO:+1100
TZNAME:AEDT
END:DAYLIGHT
END:VTIMEZONE
END:VCALENDAR